BEGIN:VCALENDAR
VERSION:2.0
PRODID:-//ChamberMaster//Event Calendar 2.0//EN
METHOD:PUBLISH
X-PUBLISHED-TTL:P3D
REFRESH-INTERVAL:P3D
CALSCALE:GREGORIAN
BEGIN:VEVENT
DTSTART;VALUE=DATE:20091220
DTEND;VALUE=DATE:20091221
TRANSP:TRANSPARENT
X-MICROSOFT-CDO-ALLDAYEVENT:TRUE
SUMMARY:Drop & Cheer at Cary Gymnastics
DESCRIPTION:Cary Gymnastics & Dance Center's Infinity All-Star Cheer program is having a "Drop & Cheer" on Sunday\, December 20 from 3:00 to 4:30 p.m. Cost is $10 per person and is for ages 7-14.  Come and learn all about competitive cheerleading.  Be prepared to tumble\, stunt\, practice jumps and more.  Wear fitted clothes\, gym shoes and hair up.  For further details\, visit www.carygymnastics.com or email Michelle at infinityallstarcheer@yahoo.com.  Cary Gymnastics is located at 600 Industrial Drive in Cary.  To reach them\, call (847) 516-1064.
X-ALT-DESC;FMTTYPE=text/html:<div><p class="MsoNormal" style="line-height: 14.4pt\; margin: 0in 0in 0pt"><st1:place><st1:placename><b style="mso-bidi-font-weight: normal"><span style="font-family: Arial\; color: black\; font-size: 11pt\; mso-bidi-font-size: 12.0pt\; mso-bidi-font-family: &rsquo\;Times New Roman&rsquo\;">Cary</span></b></st1:placename><b style="mso-bidi-font-weight: normal"><span style="font-family: Arial\; color: black\; font-size: 11pt\; mso-bidi-font-size: 12.0pt\; mso-bidi-font-family: &rsquo\;Times New Roman&rsquo\;"> </span></b><st1:placename><b style="mso-bidi-font-weight: normal"><span style="font-family: Arial\; color: black\; font-size: 11pt\; mso-bidi-font-size: 12.0pt\; mso-bidi-font-family: &rsquo\;Times New Roman&rsquo\;">Gymnastics &amp\; Dance</span></b></st1:placename><b style="mso-bidi-font-weight: normal"><span style="font-family: Arial\; color: black\; font-size: 11pt\; mso-bidi-font-size: 12.0pt\; mso-bidi-font-family: &rsquo\;Times New Roman&rsquo\;"> </span></b><st1:placetype><b style="mso-bidi-font-weight: normal"><span style="font-family: Arial\; color: black\; font-size: 11pt\; mso-bidi-font-size: 12.0pt\; mso-bidi-font-family: &rsquo\;Times New Roman&rsquo\;">Center</span></b></st1:placetype></st1:place><b style="mso-bidi-font-weight: normal"><span style="font-family: Arial\; color: black\; font-size: 11pt\; mso-bidi-font-size: 12.0pt\; mso-bidi-font-family: &rsquo\;Times New Roman&rsquo\;">&rsquo\;s</span></b><span style="font-family: Arial\; color: black\; font-size: 11pt\; mso-bidi-font-size: 12.0pt\; mso-bidi-font-family: &rsquo\;Times New Roman&rsquo\;"> Infinity All-Star Cheer program is having</span> a <span style="font-family: Arial\; color: black\; font-size: 11pt\; mso-bidi-font-size: 12.0pt\; mso-bidi-font-family: &rsquo\;Times New Roman&rsquo\;">&ldquo\;Drop &amp\; Cheer&rdquo\; on Sunday\, </span><st1:personname><span style="font-family: Arial\; color: black\; font-size: 11pt\; mso-bidi-font-size: 12.0pt\; mso-bidi-font-family: &rsquo\;Times New Roman&rsquo\;">Dec</span></st1:personname><span style="font-family: Arial\; color: black\; font-size: 11pt\; mso-bidi-font-size: 12.0pt\; mso-bidi-font-family: &rsquo\;Times New Roman&rsquo\;">ember 20 from </span><st1:time minute="0" hour="15"><span style="font-family: Arial\; color: black\; font-size: 11pt\; mso-bidi-font-size: 12.0pt\; mso-bidi-font-family: &rsquo\;Times New Roman&rsquo\;">3:00</span></st1:time><span style="font-family: Arial\; color: black\; font-size: 11pt\; mso-bidi-font-size: 12.0pt\; mso-bidi-font-family: &rsquo\;Times New Roman&rsquo\;"> to </span><st1:time minute="30" hour="16"><span style="font-family: Arial\; color: black\; font-size: 11pt\; mso-bidi-font-size: 12.0pt\; mso-bidi-font-family: &rsquo\;Times New Roman&rsquo\;">4:30 p.m.</span></st1:time><span style="font-family: Arial\; color: black\; font-size: 11pt\; mso-bidi-font-size: 12.0pt\; mso-bidi-font-family: &rsquo\;Times New Roman&rsquo\;"> Cost is $10 per person and is for ages 7-14.<span style="mso-spacerun: yes">&nbsp\; </span>Come and learn all about competitive cheerleading.<span style="mso-spacerun: yes">&nbsp\; </span>Be prepared to tumble\, stunt\, practice jumps and more.<span style="mso-spacerun: yes">&nbsp\; </span>Wear fitted clothes\, gym shoes and hair up.<span style="mso-spacerun: yes">&nbsp\; </span>For further details\, visit <a href="http://www.carygymnastics.com/"><span style="mso-fareast-font-family: Batang">www.carygymnastics.com</span></a> or email Michelle at <a href="mailto:infinityallstarcheer@yahoo.com"><span style="color: black\; mso-fareast-font-family: Batang">infinityallstarcheer@yahoo.com</span></a>.<span style="mso-spacerun: yes">&nbsp\; </span>Cary Gymnastics is located at </span><st1:street><st1:address><span style="font-family: Arial\; color: black\; font-size: 11pt\; mso-bidi-font-size: 12.0pt\; mso-bidi-font-family: &rsquo\;Times New Roman&rsquo\;">600 Industrial Drive</span></st1:address></st1:street><span style="font-family: Arial\; color: black\; font-size: 11pt\; mso-bidi-font-size: 12.0pt\; mso-bidi-font-family: &rsquo\;Times New Roman&rsquo\;"> in </span><st1:city><st1:place><span style="font-family: Arial\; color: black\; font-size: 11pt\; mso-bidi-font-size: 12.0pt\; mso-bidi-font-family: &rsquo\;Times New Roman&rsquo\;">Cary</span></st1:place></st1:city><span style="font-family: Arial\; color: black\; font-size: 11pt\; mso-bidi-font-size: 12.0pt\; mso-bidi-font-family: &rsquo\;Times New Roman&rsquo\;">.<span style="mso-spacerun: yes">&nbsp\; </span>To reach them\, call (847) 516-1064.<o:p></o:p></span></p></div>
LOCATION:Cary Gymnastics 600 Industrial Drive in Cary
UID:e.138.689
SEQUENCE:3
DTSTAMP:20260424T124820Z
URL:https://business.carygrovechamber.com/events/details/drop-cheer-at-cary-gymnastics-12-20-2009-689
END:VEVENT

END:VCALENDAR
