BEGIN:VCALENDAR
VERSION:2.0
PRODID:-//ChamberMaster//Event Calendar 2.0//EN
METHOD:PUBLISH
X-PUBLISHED-TTL:P3D
REFRESH-INTERVAL:P3D
CALSCALE:GREGORIAN
BEGIN:VEVENT
DTSTART:20090919T130000Z
DTEND:20090919T170000Z
X-MICROSOFT-CDO-ALLDAYEVENT:FALSE
SUMMARY:Early Detection & Prevention Center Open House
DESCRIPTION:Taking care of your health is very important.\n\nThat's why Advocate Good Shepherd Hospital is making it more convenient by providing comprehensive wellness services close to home.  Our new Early Detection and Prevention Center in Crystal Lake provides health screenings\, education and disease management services in one location.\n\nJoin us for a morning filled with free health screenings\, information\, raffles\, refreshments\, giveaways and more!\n-Prostate cancer screenings (provided by an Advocate physician)\n-Complete lipid panel (Includeing cholesterol & diabetes.  12 hour fast required-finger stick)\n-Body mass index\n-Blood pressure\n-Healthy eating\n-Chair massage\n\nEvent and screening are free\, but registration is required.
X-ALT-DESC;FMTTYPE=text/html:Taking care of your health is very important.\n\nThat's why Advocate Good Shepherd Hospital is making it more convenient by providing comprehensive wellness services close to home.  Our new Early Detection and Prevention Center in Crystal Lake provides health screenings\, education and disease management services in one location.\n\nJoin us for a morning filled with free health screenings\, information\, raffles\, refreshments\, giveaways and more!\n-Prostate cancer screenings (provided by an Advocate physician)\n-Complete lipid panel (Includeing cholesterol & diabetes.  12 hour fast required-finger stick)\n-Body mass index\n-Blood pressure\n-Healthy eating\n-Chair massage\n\nEvent and screening are free\, but registration is required.
LOCATION:Advocate Good Shepherd Outpatient Center 525 Congress Parkway Crystal Lake (Across from the Pingree Road Metra Station) Crystal Lake\, IL 60014
UID:e.138.556
SEQUENCE:3
DTSTAMP:20260424T151243Z
URL:https://business.carygrovechamber.com/events/details/early-detection-prevention-center-open-house-09-19-2009-556
END:VEVENT

END:VCALENDAR
