BEGIN:VCALENDAR
VERSION:2.0
PRODID:-//ChamberMaster//Event Calendar 2.0//EN
METHOD:PUBLISH
X-PUBLISHED-TTL:P3D
REFRESH-INTERVAL:P3D
CALSCALE:GREGORIAN
BEGIN:VEVENT
DTSTART;VALUE=DATE:20090412
DTEND;VALUE=DATE:20090413
TRANSP:TRANSPARENT
X-MICROSOFT-CDO-ALLDAYEVENT:TRUE
SUMMARY:Easter Sunday Champagne Brunch
DESCRIPTION:The Holiday Inn Crystal Lake Easter Buffet Brunch includes an omelet station\, apple filled pancakes\, prime rib and honey roasted ham carving station\, array of salads\, shrimp cocktail\, roasted rosemary pork loin\, sate chicken cacciatore\, a grand dessert display and a special children's buffet. Cost is $27.95 for adults and discounts for children and seniors. Call (815) 404-2019 for reservations. Holiday Inn is located at 800 South Route 31 in Crystal Lake.
X-ALT-DESC;FMTTYPE=text/html:<div>The Holiday Inn Crystal Lake Easter Buffet Brunch includes an omelet station\, apple filled pancakes\, prime rib and honey roasted ham carving station\, array of salads\, shrimp cocktail\, roasted rosemary pork loin\, sate chicken cacciatore\, a grand dessert display and a special children's buffet. Cost is $27.95 for adults and discounts for children and seniors. Call (815) 404-2019 for reservations. Holiday Inn is located at 800 South Route 31 in Crystal Lake.</div>
LOCATION:The Holiday Inn Crystal Lake800 South Route 31 in Crystal Lake
UID:e.138.438
SEQUENCE:3
DTSTAMP:20260424T231121Z
URL:https://business.carygrovechamber.com/events/details/easter-sunday-champagne-brunch-04-12-2009-438
END:VEVENT

END:VCALENDAR
