BEGIN:VCALENDAR
VERSION:2.0
PRODID:-//ChamberMaster//Event Calendar 2.0//EN
METHOD:PUBLISH
X-PUBLISHED-TTL:P3D
REFRESH-INTERVAL:P3D
CALSCALE:GREGORIAN
BEGIN:VEVENT
DTSTART;VALUE=DATE:20090412
DTEND;VALUE=DATE:20090413
TRANSP:TRANSPARENT
X-MICROSOFT-CDO-ALLDAYEVENT:TRUE
SUMMARY:Easter Sunday Champagne Brunch with Easter Bunny
DESCRIPTION:The Clubhouse of Cary at Cary Country Club is offering four seatings at 9:00\, 10:30\, 12:30 and 2:30 p.m.  The Easter Bunny will be present at all seatings.  Cost is $20.95 for adults\, children ages 4-10 are $7.95\, and children under 3 are free.  Call (847) 639-9494 to make your reservation.  Cary Country Club is located at 2400 Grove Lane in Cary.  They are open year round for their Friday Fish and Sunday Breakfast buffets.
X-ALT-DESC;FMTTYPE=text/html:The Clubhouse of Cary at Cary Country Club is offering four seatings at 9:00\, 10:30\, 12:30 and 2:30 p.m.  The Easter Bunny will be present at all seatings.  Cost is $20.95 for adults\, children ages 4-10 are $7.95\, and children under 3 are free.  Call (847) 639-9494 to make your reservation.  Cary Country Club is located at 2400 Grove Lane in Cary.  They are open year round for their Friday Fish and Sunday Breakfast buffets.
LOCATION:Cary Country Club2400 Grove Lane in Cary
UID:e.138.437
SEQUENCE:3
DTSTAMP:20260424T231120Z
URL:https://business.carygrovechamber.com/events/details/easter-sunday-champagne-brunch-with-easter-bunny-04-12-2009-437
END:VEVENT

END:VCALENDAR
