BEGIN:VCALENDAR
VERSION:2.0
PRODID:-//ChamberMaster//Event Calendar 2.0//EN
METHOD:PUBLISH
X-PUBLISHED-TTL:P3D
REFRESH-INTERVAL:P3D
CALSCALE:GREGORIAN
BEGIN:VEVENT
DTSTART:20070612T153000Z
DTEND:20070612T223000Z
X-MICROSOFT-CDO-ALLDAYEVENT:FALSE
SUMMARY:Edward Jones Free Video Presentation
DESCRIPTION:"How Your Personality Can Affect Your Portfolio's Performance"\nDo you procrastinate?  React quickly?  Tend to over-analyxe?\nJoin us to learn how your behavior can influence the overall performance of your investments\nand how this can potentially help you avoid mistakes.  Our guest is Terrance Odean\, Ph.D.\, of the Haas School of Business at University of California\, an expert in investor behavior.
X-ALT-DESC;FMTTYPE=text/html:"How Your Personality Can Affect Your Portfolio's Performance"\nDo you procrastinate?  React quickly?  Tend to over-analyxe?\nJoin us to learn how your behavior can influence the overall performance of your investments\nand how this can potentially help you avoid mistakes.  Our guest is Terrance Odean\, Ph.D.\, of the Haas School of Business at University of California\, an expert in investor behavior.
LOCATION:17 Jandus Road Cary\, IL 60013
UID:e.138.77
SEQUENCE:3
DTSTAMP:20260425T230349Z
URL:https://business.carygrovechamber.com/events/details/edward-jones-free-video-presentation-06-12-2007-77
END:VEVENT

END:VCALENDAR
