BEGIN:VCALENDAR
VERSION:2.0
PRODID:-//ChamberMaster//Event Calendar 2.0//EN
METHOD:PUBLISH
X-PUBLISHED-TTL:P3D
REFRESH-INTERVAL:P3D
CALSCALE:GREGORIAN
BEGIN:VEVENT
DTSTART:20080318T233000Z
DTEND:20080319T010000Z
X-MICROSOFT-CDO-ALLDAYEVENT:FALSE
SUMMARY:Event at Advocate Good Shepherd Hospital- Knowledge is Power with Cancer Treatme
DESCRIPTION:Knowledge is Power with Cancer Treatments\nAdvances in technology have paved the way for many new cancer treatments in recent years.  Radiation oncologist\, James Ruffer\, M.D. Will explain the innvoations that have been made and how these treatments mean better outcomes for patients
X-ALT-DESC;FMTTYPE=text/html:Knowledge is Power with Cancer Treatments\nAdvances in technology have paved the way for many new cancer treatments in recent years.  Radiation oncologist\, James Ruffer\, M.D. Will explain the innvoations that have been made and how these treatments mean better outcomes for patients
LOCATION:Advocate Good Shepherd Hospital Prairie Room 450 Highway 22 Barrington\, Il 60010
UID:e.138.207
SEQUENCE:3
DTSTAMP:20260425T181509Z
URL:https://business.carygrovechamber.com/events/details/event-at-advocate-good-shepherd-hospital-knowledge-is-power-with-cancer-treatme-03-18-2008-207
END:VEVENT

END:VCALENDAR
