BEGIN:VCALENDAR
VERSION:2.0
PRODID:-//ChamberMaster//Event Calendar 2.0//EN
METHOD:PUBLISH
X-PUBLISHED-TTL:P3D
REFRESH-INTERVAL:P3D
CALSCALE:GREGORIAN
BEGIN:VEVENT
DTSTART:20080415T233000Z
DTEND:20080416T010000Z
X-MICROSOFT-CDO-ALLDAYEVENT:FALSE
SUMMARY:Event at Advocate Good Shepherd Hospital - Prepping your Young Athlete for the S
DESCRIPTION:"Prepping your Young Athlete for the Spring Season"\nSpring is just around the corner...and so is spring training for many young athletes.  Start you child's sport season on the right foot with Albert Knuth\, M.D.\, pediatric orthopedic surgeon with Orthopaedic Surgery Specialists.  He will speak on preventing injuries through proper conditioning and strength training.
X-ALT-DESC;FMTTYPE=text/html:"Prepping your Young Athlete for the Spring Season"\nSpring is just around the corner...and so is spring training for many young athletes.  Start you child's sport season on the right foot with Albert Knuth\, M.D.\, pediatric orthopedic surgeon with Orthopaedic Surgery Specialists.  He will speak on preventing injuries through proper conditioning and strength training.
LOCATION:Advocate Good Shepherd Hospital Prairie Room 450 W. Highway 22 Barrington\, Il 60010
UID:e.138.208
SEQUENCE:3
DTSTAMP:20260425T154131Z
URL:https://business.carygrovechamber.com/events/details/event-at-advocate-good-shepherd-hospital-prepping-your-young-athlete-for-the-s-04-15-2008-208
END:VEVENT

END:VCALENDAR
