BEGIN:VCALENDAR
VERSION:2.0
PRODID:-//ChamberMaster//Event Calendar 2.0//EN
METHOD:PUBLISH
X-PUBLISHED-TTL:P3D
REFRESH-INTERVAL:P3D
CALSCALE:GREGORIAN
BEGIN:VEVENT
DTSTART:20071115T004500Z
DTEND:20071115T030000Z
X-MICROSOFT-CDO-ALLDAYEVENT:FALSE
SUMMARY:Event at CAbi - Carol Anderson by Invitation
DESCRIPTION:
X-ALT-DESC;FMTTYPE=text/html:
LOCATION:
UID:e.138.143
SEQUENCE:3
DTSTAMP:20260426T010319Z
URL:https://business.carygrovechamber.com/events/details/event-at-cabi-carol-anderson-by-invitation-11-14-2007-143
END:VEVENT

END:VCALENDAR
