BEGIN:VCALENDAR
VERSION:2.0
PRODID:-//ChamberMaster//Event Calendar 2.0//EN
METHOD:PUBLISH
X-PUBLISHED-TTL:P3D
REFRESH-INTERVAL:P3D
CALSCALE:GREGORIAN
BEGIN:VEVENT
DTSTART:20090913T033000Z
DTEND:20090912T170000Z
X-MICROSOFT-CDO-ALLDAYEVENT:FALSE
SUMMARY:Event at Cary Grove Evangelical Free Church
DESCRIPTION:Come see the newest Veggie Tales Movie\, "Minnesota Cuke & The Search for Noah's Umbrella" This is a free event for kids of all ages. Every child will receive a snack as well as a goodie bag! A parent or guardian must attend with children.
X-ALT-DESC;FMTTYPE=text/html:Come see the newest Veggie Tales Movie\, "Minnesota Cuke & The Search for Noah's Umbrella" This is a free event for kids of all ages. Every child will receive a snack as well as a goodie bag! A parent or guardian must attend with children. 
LOCATION:Cary Grove Evangelical Free Church525 W. Ada StreetCary\, IL 60013
UID:e.138.572
SEQUENCE:3
DTSTAMP:20260424T163731Z
URL:https://business.carygrovechamber.com/events/details/event-at-cary-grove-evangelical-free-church-09-12-2009-572
END:VEVENT

END:VCALENDAR
