BEGIN:VCALENDAR
VERSION:2.0
PRODID:-//ChamberMaster//Event Calendar 2.0//EN
METHOD:PUBLISH
X-PUBLISHED-TTL:P3D
REFRESH-INTERVAL:P3D
CALSCALE:GREGORIAN
BEGIN:VEVENT
DTSTART:20100107T174500Z
DTEND:20100107T190000Z
X-MICROSOFT-CDO-ALLDAYEVENT:FALSE
SUMMARY:Event at Edward Jones Investments--Sansone
DESCRIPTION:Retirement Plans for Small Businesses Lunch: \n\nAs a small business owner\, choosing among the various retirement plans available to you can be confusing.  Join me to discuss your retirement plan options\, from Single K's to SEP IRAs\, and how each one may affect you and your employees.  Attend my FREE seminar and get Lunch to boot!
X-ALT-DESC;FMTTYPE=text/html:Retirement Plans for Small Businesses Lunch: \n<br>As a small business owner\, choosing among the various retirement plans available to you can be confusing.  Join me to discuss your retirement plan options\, from Single K's to SEP IRAs\, and how each one may affect you and your employees.  Attend my FREE seminar and get Lunch to boot!
LOCATION:Clubhouse of Cary at Cary Country Club
UID:e.138.696
SEQUENCE:3
DTSTAMP:20260424T113518Z
URL:https://business.carygrovechamber.com/events/details/event-at-edward-jones-investments-sansone-01-07-2010-696
END:VEVENT

END:VCALENDAR
