BEGIN:VCALENDAR
VERSION:2.0
PRODID:-//ChamberMaster//Event Calendar 2.0//EN
METHOD:PUBLISH
X-PUBLISHED-TTL:P3D
REFRESH-INTERVAL:P3D
CALSCALE:GREGORIAN
BEGIN:VEVENT
DTSTART:20100112T163000Z
DTEND:20100112T174500Z
X-MICROSOFT-CDO-ALLDAYEVENT:FALSE
SUMMARY:Event at Edward Jones Investments--Sansone
DESCRIPTION:Outlook 2010-What's Next for Investors?\n\nThe program will offer an Outlook on the financial markets in 2010 and give you relevant perspectives on the recovery\, inflation\, taxes\, housing\, interest rates\, health care and more.  Investors will also learn about the new Roth IRA\, tax laws and other timely retirement strategies.
X-ALT-DESC;FMTTYPE=text/html:Outlook 2010-What's Next for Investors?\n<br>The program will offer an Outlook on the financial markets in 2010 and give you relevant perspectives on the recovery\, inflation\, taxes\, housing\, interest rates\, health care and more.  Investors will also learn about the new Roth IRA\, tax laws and other timely retirement strategies.
LOCATION:Edward Jones office\, 17 Jandus Road\, Cary.
UID:e.138.697
SEQUENCE:3
DTSTAMP:20260424T113518Z
URL:https://business.carygrovechamber.com/events/details/event-at-edward-jones-investments-sansone-01-12-2010-697
END:VEVENT

END:VCALENDAR
