BEGIN:VCALENDAR
VERSION:2.0
PRODID:-//ChamberMaster//Event Calendar 2.0//EN
METHOD:PUBLISH
X-PUBLISHED-TTL:P3D
REFRESH-INTERVAL:P3D
CALSCALE:GREGORIAN
BEGIN:VEVENT
DTSTART:20080723T230000Z
DTEND:20080724T020000Z
X-MICROSOFT-CDO-ALLDAYEVENT:FALSE
SUMMARY:Event at Five O'Clock Steakhouse
DESCRIPTION:NEIGHBORHOOD NIGHT Complimentary Appetizers and first drink on us!   A great way to get to know your neighbors from Fox River Grove\, Cary\, Barrington\, Crystal Lake\, Lake Zurich and surrounding areas!
X-ALT-DESC;FMTTYPE=text/html:<div><font size="3">NEIGHBORHOOD NIGHT Complimentary Appetizers&nbsp\;and first drink on us!&nbsp\;&nbsp\; A great way to get to know your neighbors from Fox River Grove\, Cary\, Barrington\, Crystal Lake\, Lake Zurich and surrounding areas!</font></div>
LOCATION:Five O'Clock Steakhouse 1050 Northwest Hwy. Fox River Grove\, IL 60021
UID:e.138.292
SEQUENCE:3
DTSTAMP:20260425T121743Z
URL:https://business.carygrovechamber.com/events/details/event-at-five-o-clock-steakhouse-07-23-2008-292
END:VEVENT

END:VCALENDAR
