BEGIN:VCALENDAR
VERSION:2.0
PRODID:-//ChamberMaster//Event Calendar 2.0//EN
METHOD:PUBLISH
X-PUBLISHED-TTL:P3D
REFRESH-INTERVAL:P3D
CALSCALE:GREGORIAN
BEGIN:VEVENT
DTSTART:20090618T220000Z
DTEND:20090619T010000Z
X-MICROSOFT-CDO-ALLDAYEVENT:FALSE
SUMMARY:Event at In Home Services\, Inc.
DESCRIPTION:Aloha !!!    Grand Opening Celebration of our newest location in Fox River Grove. You will be entertained by The Royale Polynesian Revue while enjoying our Polynesian cuisine.We will have door prizes and drinks while showcasing some of the latest technologies in senior care.
X-ALT-DESC;FMTTYPE=text/html:Aloha !!!    Grand Opening Celebration of our newest location in Fox River Grove. You will be entertained by The Royale Polynesian Revue while enjoying our Polynesian cuisine.We will have door prizes and drinks while showcasing some of the latest technologies in senior care.
LOCATION:906 Rt. 22\, Fox River Grove
UID:e.138.486
SEQUENCE:3
DTSTAMP:20260424T203231Z
URL:https://business.carygrovechamber.com/events/details/event-at-in-home-services-inc-06-18-2009-486
END:VEVENT

END:VCALENDAR
