BEGIN:VCALENDAR
VERSION:2.0
PRODID:-//ChamberMaster//Event Calendar 2.0//EN
METHOD:PUBLISH
X-PUBLISHED-TTL:P3D
REFRESH-INTERVAL:P3D
CALSCALE:GREGORIAN
BEGIN:VEVENT
DTSTART;VALUE=DATE:20091014
DTEND;VALUE=DATE:20091119
TRANSP:TRANSPARENT
X-MICROSOFT-CDO-ALLDAYEVENT:TRUE
SUMMARY:Event at In Home Services\, Inc.
DESCRIPTION:Help us Support Seniors Giving Thanksgiving! \n\nIn Home Services\, together with the residents at local retirement communities and senior centers\, will be coming together to brighten up Thanksgiving for families in need. We will be asking for donations of non-perishable food items which are traditionally a part of Thanksgiving Dinner such as boxed mashed potatoes\, boxed stuffing\, canned cranberry sauces\, canned vegetables\, etc. From there\, local boy scouts\, girl scouts\, and other volunteers will separate the donations into Traditional Thanksgiving Dinner Baskets. Each basket will be complete with everything a family would need to make a hearty Thanksgiving Dinner right down to a gift certificate for their turkey. The baskets will then be donated to local food banks\, meals on wheels\, and churches to be distributed to those in need.
X-ALT-DESC;FMTTYPE=text/html:Help us Support Seniors Giving Thanksgiving! \n\nIn Home Services\, together with the residents at local retirement communities and senior centers\, will be coming together to brighten up Thanksgiving for families in need. We will be asking for donations of non-perishable food items which are traditionally a part of Thanksgiving Dinner such as boxed mashed potatoes\, boxed stuffing\, canned cranberry sauces\, canned vegetables\, etc. From there\, local boy scouts\, girl scouts\, and other volunteers will separate the donations into Traditional Thanksgiving Dinner Baskets. Each basket will be complete with everything a family would need to make a hearty Thanksgiving Dinner right down to a gift certificate for their turkey. The baskets will then be donated to local food banks\, meals on wheels\, and churches to be distributed to those in need. \n\n
LOCATION:Drop Off Locations: In Home Services\, Inc. 906 Route 22 Fox River Grove\, IL 60021 Fountains of Crystal Lake 965 N. Brighton Circle West Crystal Lake\, IL 60012 Lake Barrington Woods 22320 Classic Court Lake Barrington\, 60010
UID:e.138.619
SEQUENCE:3
DTSTAMP:20260424T140201Z
URL:https://business.carygrovechamber.com/events/details/event-at-in-home-services-inc-10-14-2009-619
END:VEVENT

END:VCALENDAR
