BEGIN:VCALENDAR
VERSION:2.0
PRODID:-//ChamberMaster//Event Calendar 2.0//EN
METHOD:PUBLISH
X-PUBLISHED-TTL:P3D
REFRESH-INTERVAL:P3D
CALSCALE:GREGORIAN
BEGIN:VEVENT
DTSTART;VALUE=DATE:20090924
DTEND;VALUE=DATE:20090925
TRANSP:TRANSPARENT
X-MICROSOFT-CDO-ALLDAYEVENT:TRUE
SUMMARY:Event at Lulu's Secrets
DESCRIPTION:Girls Night Out Event! Come on out to Chandlers Chophouse in Schaumburg!  Lulu's Secret will there for you to do some early holiday shopping! Lots of different vendors will be there displaying merchandise!   It's a great time to do early holiday shopping...... Handbags\, Jewelry\, Clothing\, Hair products\, Make up\, & much much more!
X-ALT-DESC;FMTTYPE=text/html:<div>Girls Night Out Event!&nbsp\;Come on out to Chandlers Chophouse in Schaumburg!&nbsp\;&nbsp\;Lulu&rsquo\;s Secret will there for you to do some early holiday shopping! Lots&nbsp\;of different vendors will be there displaying merchandise!&nbsp\;&nbsp\;&nbsp\;It&rsquo\;s a great time to do early holiday shopping...... Handbags\, Jewelry\, Clothing\, Hair products\, Make up\, &amp\; much much more!</div>
LOCATION:Chandlers Chophouse on Roselle in Schaumburg\, IL
UID:e.138.571
SEQUENCE:3
DTSTAMP:20260424T163533Z
URL:https://business.carygrovechamber.com/events/details/event-at-lulu-s-secrets-09-24-2009-571
END:VEVENT

END:VCALENDAR
