BEGIN:VCALENDAR
VERSION:2.0
PRODID:-//ChamberMaster//Event Calendar 2.0//EN
METHOD:PUBLISH
X-PUBLISHED-TTL:P3D
REFRESH-INTERVAL:P3D
CALSCALE:GREGORIAN
BEGIN:VEVENT
DTSTART;VALUE=DATE:20070425
DTEND;VALUE=DATE:20070426
TRANSP:TRANSPARENT
X-MICROSOFT-CDO-ALLDAYEVENT:TRUE
SUMMARY:Event at Merrill Lynch
DESCRIPTION:Lauren Komarek of Merrill Lynch is hosting an Identity Theft seminar featuring Special Agent Victoria Fisher. The seminar will take place on Wednesday\, April 25th at the Makray Memorial Golf Club in Barrington. The presentation will be from 6:00 to 7:15 and reception from 7:15 to 8:00. Refreshments will be served following the presentation. Please RSVP to Lauren Komarek at 847-291-4880
X-ALT-DESC;FMTTYPE=text/html:Lauren Komarek of Merrill Lynch is hosting an Identity Theft seminar featuring Special Agent Victoria Fisher. The seminar will take place on Wednesday\, April 25th at the Makray Memorial Golf Club in Barrington. The presentation will be from 6:00 to 7:15 and reception from 7:15 to 8:00. Refreshments will be served following the presentation. Please RSVP to Lauren Komarek at 847-291-4880
LOCATION:Makray Memorial Golf Club 1010 E Northwest Hwy Barrington\, IL 60010
UID:e.138.62
SEQUENCE:3
DTSTAMP:20260425T203045Z
URL:https://business.carygrovechamber.com/events/details/event-at-merrill-lynch-04-25-2007-62
END:VEVENT

END:VCALENDAR
