BEGIN:VCALENDAR
VERSION:2.0
PRODID:-//ChamberMaster//Event Calendar 2.0//EN
METHOD:PUBLISH
X-PUBLISHED-TTL:P3D
REFRESH-INTERVAL:P3D
CALSCALE:GREGORIAN
BEGIN:VEVENT
DTSTART:20100306T160000Z
DTEND:20100306T200000Z
X-MICROSOFT-CDO-ALLDAYEVENT:FALSE
SUMMARY:Event at Montessori Pathways
DESCRIPTION:Open House
X-ALT-DESC;FMTTYPE=text/html:Open House
LOCATION:Montessori Pathways School 133 Illinois Str\, Crystal Lake\, IL
UID:e.138.746
SEQUENCE:3
DTSTAMP:20260424T110327Z
URL:https://business.carygrovechamber.com/events/details/event-at-montessori-pathways-03-06-2010-746
END:VEVENT

END:VCALENDAR
