BEGIN:VCALENDAR
VERSION:2.0
PRODID:-//ChamberMaster//Event Calendar 2.0//EN
METHOD:PUBLISH
X-PUBLISHED-TTL:P3D
REFRESH-INTERVAL:P3D
CALSCALE:GREGORIAN
BEGIN:VEVENT
DTSTART:20080906T180000Z
DTEND:20080906T210000Z
X-MICROSOFT-CDO-ALLDAYEVENT:FALSE
SUMMARY:Event at ReMax Unlimited Northwest / Mary McDonald
DESCRIPTION:Realtor-on-Call - We are hosting Realtor-on-Call from 1-4pm.  Look for signs throughout Cary identifying the homes that are on call - an agent will be available at our office to show the properity within minutes.  Call our office at 847-639-6600 and tell them which property you are at.
X-ALT-DESC;FMTTYPE=text/html:Realtor-on-Call - We are hosting Realtor-on-Call from 1-4pm.  Look for signs throughout Cary identifying the homes that are on call - an agent will be available at our office to show the properity within minutes.  Call our office at 847-639-6600 and tell them which property you are at.  
LOCATION:Cary
UID:e.138.319
SEQUENCE:3
DTSTAMP:20260425T105333Z
URL:https://business.carygrovechamber.com/events/details/event-at-remax-unlimited-northwest-mary-mcdonald-09-06-2008-319
END:VEVENT

END:VCALENDAR
