BEGIN:VCALENDAR
VERSION:2.0
PRODID:-//ChamberMaster//Event Calendar 2.0//EN
METHOD:PUBLISH
X-PUBLISHED-TTL:P3D
REFRESH-INTERVAL:P3D
CALSCALE:GREGORIAN
BEGIN:VEVENT
DTSTART:20091121T180000Z
DTEND:20091121T230000Z
X-MICROSOFT-CDO-ALLDAYEVENT:FALSE
SUMMARY:Event at Sage Chiropractic Center
DESCRIPTION:Grand Opening at Sage Chiropractic Center
X-ALT-DESC;FMTTYPE=text/html:Grand Opening at Sage Chiropractic Center
LOCATION:105 E. Main Street\, Cary
UID:e.138.630
SEQUENCE:3
DTSTAMP:20260424T140145Z
URL:https://business.carygrovechamber.com/events/details/event-at-sage-chiropractic-center-11-21-2009-630
END:VEVENT

END:VCALENDAR
