BEGIN:VCALENDAR
VERSION:2.0
PRODID:-//ChamberMaster//Event Calendar 2.0//EN
METHOD:PUBLISH
X-PUBLISHED-TTL:P3D
REFRESH-INTERVAL:P3D
CALSCALE:GREGORIAN
BEGIN:VEVENT
DTSTART:20100131T003000Z
DTEND:20100131T030000Z
X-MICROSOFT-CDO-ALLDAYEVENT:FALSE
SUMMARY:Everybody's Hero: The Jackie Robinson Story
DESCRIPTION:The first ballplayer to break the color barrier in baseball\, Robinson was strong enough to stand up to the teammates who ridiculed him\, the pitchers who threw at him and the fans who sent him threats. An inspirational play!\n\nCorporate Co-Sponsors: Centegra Health System\, Crystal Lake Bank and Trust
X-ALT-DESC;FMTTYPE=text/html:The first ballplayer to break the color barrier in baseball\, Robinson was strong enough to stand up to the teammates who ridiculed him\, the pitchers who threw at him and the fans who sent him threats. An inspirational play!\n\nCorporate Co-Sponsors: Centegra Health System\, Crystal Lake Bank and Trust
LOCATION:Raue Center For The Arts 26 North Williams Street Crystal Lake\, IL 60014
UID:e.138.668
SEQUENCE:3
DTSTAMP:20260424T113600Z
URL:https://business.carygrovechamber.com/events/details/everybody-s-hero-the-jackie-robinson-story-01-30-2010-668
END:VEVENT

END:VCALENDAR
