BEGIN:VCALENDAR
VERSION:2.0
PRODID:-//ChamberMaster//Event Calendar 2.0//EN
METHOD:PUBLISH
X-PUBLISHED-TTL:P3D
REFRESH-INTERVAL:P3D
CALSCALE:GREGORIAN
BEGIN:VEVENT
DTSTART;VALUE=DATE:20091108
DTEND;VALUE=DATE:20091109
TRANSP:TRANSPARENT
X-MICROSOFT-CDO-ALLDAYEVENT:TRUE
SUMMARY:Family Fitness Fun Fair
DESCRIPTION:1st Annual Family Fun & Fitness Fair The Village of Lake Barrington and it's sponsors invite you to come experience what our local area has to offer.  Get inspired by activity-oriented learning on health & wellness.  We have a fabulous lineup including performances by the Barrington Children's Choir\, the Bataille Academie of the Danse\, IL Global messenger for the Special Olympics and much more!  There will be raffles\, a holiday boutique\, nutritional & fitness specialists to help guide you with your fitness regimen.  Medical professionals will be on hand to assist with health screenings\, provide valuable information on the H1N1 virus\, immunizations and promoting overall health awareness.  Make it a family day and come out to the Lake Barrington Field House\, Nov 8th from 12-4pm.  Join us for better health!
X-ALT-DESC;FMTTYPE=text/html:<div><div>&nbsp\;</div><div><b><span style="font-size: 14pt">1<sup>st</sup> Annual Family Fun &amp\; Fitness Fair</span></b></div><div>&nbsp\;</div><div>The Village of Lake Barrington and it&rsquo\;s sponsors invite you to come experience what our local area has to offer.&nbsp\; Get inspired by activity-oriented learning on health &amp\; wellness.&nbsp\; We have a fabulous lineup including performances by the Barrington Children&rsquo\;s Choir\, the Bataille Academie of the Danse\, IL Global messenger for the Special Olympics and much more!&nbsp\; There will be raffles\, a holiday boutique\, nutritional &amp\; fitness specialists to help guide you with your fitness regimen.&nbsp\; Medical professionals will be on hand to assist with health screenings\, provide valuable information on the H1N1 virus\, immunizations and promoting overall health awareness.&nbsp\; Make it a family day and come out to the Lake Barrington Field House\, Nov 8<sup>th</sup> from 12-4pm.&nbsp\; Join us for better health!</div><div>&nbsp\;</div></div>
LOCATION:Lake Barrington Field House\, 28156 W. NorthPointe Pkwy.\, Lake Barrington
UID:e.138.622
SEQUENCE:3
DTSTAMP:20260424T140619Z
URL:https://business.carygrovechamber.com/events/details/family-fitness-fun-fair-11-08-2009-622
END:VEVENT

END:VCALENDAR
