BEGIN:VCALENDAR
VERSION:2.0
PRODID:-//ChamberMaster//Event Calendar 2.0//EN
METHOD:PUBLISH
X-PUBLISHED-TTL:P3D
REFRESH-INTERVAL:P3D
CALSCALE:GREGORIAN
BEGIN:VEVENT
DTSTART:20080412T150000Z
DTEND:20080412T163000Z
X-MICROSOFT-CDO-ALLDAYEVENT:FALSE
SUMMARY:Family Kite Fly
DESCRIPTION:Help the Cary Park District celebrate National Kite Flying month an the arrival of spring!  You may bring your own kite or choose to purchase a kite craft kit on-site. Then\, either participate in a kite contest where catagories may include biggest kite\, smallest kite\, hightest flying kite\, most unusual kite and more or simply fly at your leisure.  Registration at the Cary Park District Community Center is necessary for those competing in the kite contest. Children must be accompanied by an adult. Information on the Illinois Park District Youth License Plate will also be available.
X-ALT-DESC;FMTTYPE=text/html:<div>Help the Cary Park District celebrate National Kite Flying month an the arrival of spring!&nbsp\; You may bring your&nbsp\;own kite or choose to purchase a kite craft kit on-site. Then\, either participate in a kite contest where catagories may include biggest kite\, smallest kite\, hightest flying kite\, most unusual kite and more or simply fly at your leisure.&nbsp\; Registration at the Cary Park District Community Center is necessary for those competing in the kite contest. Children must be accompanied by an adult. Information on the Illinois Park District Youth License Plate will also be available.</div>
LOCATION:Lions Park
UID:e.138.195
SEQUENCE:3
DTSTAMP:20260425T170117Z
URL:https://business.carygrovechamber.com/events/details/family-kite-fly-04-12-2008-195
END:VEVENT

END:VCALENDAR
