BEGIN:VCALENDAR
VERSION:2.0
PRODID:-//ChamberMaster//Event Calendar 2.0//EN
METHOD:PUBLISH
X-PUBLISHED-TTL:P3D
REFRESH-INTERVAL:P3D
CALSCALE:GREGORIAN
BEGIN:VEVENT
DTSTART;VALUE=DATE:20090622
DTEND;VALUE=DATE:20090628
TRANSP:TRANSPARENT
X-MICROSOFT-CDO-ALLDAYEVENT:TRUE
SUMMARY:Fathers Appreciation Week at Cary Chiropractic
DESCRIPTION:Cary Chiropractic Offices is offering all Dads a free exam\, spinal screening\, x-rays and 10 minute chair massage with their licensed massage therapist the week of Monday\, June 22 through Saturday\, June 27. Call (847) 639-0010 to schedule your appointment with Dr. Barthen. Visit www.carychiropracticoffices.com for more information.
X-ALT-DESC;FMTTYPE=text/html:<div>Cary Chiropractic Offices is offering all Dads a free exam\, spinal screening\, x-rays and 10 minute chair massage with their licensed massage therapist the week of Monday\, June 22 through Saturday\, June 27. Call (847) 639-0010 to schedule your appointment with Dr. Barthen. Visit www.carychiropracticoffices.com for more information.</div>
LOCATION:Cary Chiropractic Offices395C Cary Algonquin RdCary\, IL
UID:e.138.499
SEQUENCE:3
DTSTAMP:20260424T203240Z
URL:https://business.carygrovechamber.com/events/details/fathers-appreciation-week-at-cary-chiropractic-06-22-2009-499
END:VEVENT

END:VCALENDAR
