BEGIN:VCALENDAR
VERSION:2.0
PRODID:-//ChamberMaster//Event Calendar 2.0//EN
METHOD:PUBLISH
X-PUBLISHED-TTL:P3D
REFRESH-INTERVAL:P3D
CALSCALE:GREGORIAN
BEGIN:VEVENT
DTSTART:20090516T003000Z
DTEND:20090516T023000Z
X-MICROSOFT-CDO-ALLDAYEVENT:FALSE
SUMMARY:Faustwork Mask Theatre: The Mask Messenger
DESCRIPTION:The Mask Messenger is stand-up comedy and theatre in the guise of a lecture/demonstration about masks.  The show brims with wisdom and insight\, even though many members of the audience are laughing too hard to notice.
X-ALT-DESC;FMTTYPE=text/html:The Mask Messenger is stand-up comedy and theatre in the guise of a lecture/demonstration about masks.  The show brims with wisdom and insight\, even though many members of the audience are laughing too hard to notice.
LOCATION:Raue Center For The Arts 26 N. Williams St. Crystal Lake\, IL 60014
UID:e.138.446
SEQUENCE:3
DTSTAMP:20260424T214700Z
URL:https://business.carygrovechamber.com/events/details/faustwork-mask-theatre-the-mask-messenger-05-15-2009-446
END:VEVENT

END:VCALENDAR
