BEGIN:VCALENDAR
VERSION:2.0
PRODID:-//ChamberMaster//Event Calendar 2.0//EN
METHOD:PUBLISH
X-PUBLISHED-TTL:P3D
REFRESH-INTERVAL:P3D
CALSCALE:GREGORIAN
BEGIN:VEVENT
DTSTART;VALUE=DATE:20080412
DTEND;VALUE=DATE:20080413
TRANSP:TRANSPARENT
X-MICROSOFT-CDO-ALLDAYEVENT:TRUE
SUMMARY:Festival of Four - A World of Music on a Single Stage
DESCRIPTION:Passion\, spirit and raw emotion come to life as a world of musical possibilities unveil the quartet known as Festival of Four. Flamenco guitar master Guillermo Rios\, Chilean-born flute virtuoso Viviana Guzman\, the U.S. National mandolin champion from the Czech Republic Radim Zenkl and American classical and acoustic guitar stylist Richard Patterson are the highly-acclaimed members of Festival of Four. This ?worldly? quartet plays lively Spanish\, Latin\, Italian\, Hungarian and Russian selections.
X-ALT-DESC;FMTTYPE=text/html:Passion\, spirit and raw emotion come to life as a world of musical possibilities unveil the quartet known as Festival of Four. Flamenco guitar master Guillermo Rios\, Chilean-born flute virtuoso Viviana Guzman\, the U.S. National mandolin champion from the Czech Republic Radim Zenkl and American classical and acoustic guitar stylist Richard Patterson are the highly-acclaimed members of Festival of Four. This ?worldly? quartet plays lively Spanish\, Latin\, Italian\, Hungarian and Russian selections.
LOCATION:Raue Center For The Arts 26 N. Williams Street Crystal Lake\, IL 60014
UID:e.138.172
SEQUENCE:3
DTSTAMP:20260425T165903Z
URL:https://business.carygrovechamber.com/events/details/festival-of-four-a-world-of-music-on-a-single-stage-04-12-2008-172
END:VEVENT

END:VCALENDAR
