BEGIN:VCALENDAR
VERSION:2.0
PRODID:-//ChamberMaster//Event Calendar 2.0//EN
METHOD:PUBLISH
X-PUBLISHED-TTL:P3D
REFRESH-INTERVAL:P3D
CALSCALE:GREGORIAN
BEGIN:VEVENT
DTSTART;VALUE=DATE:20090916
DTEND;VALUE=DATE:20090917
TRANSP:TRANSPARENT
X-MICROSOFT-CDO-ALLDAYEVENT:TRUE
SUMMARY:First Time Homebuyer Seminar
DESCRIPTION:Harris Bank Offers First Time Homebuyer Seminar   September 16Time is running out for your Federal Tax Credit!  Harris Bank is hosting a "First Time Homebuyer Seminar" on Wednesday\, September 16 from 6 to 8:00 p.m. at the Algonquin Township Office\, located at 3702 Route 14 in Crystal Lake. Attend and be eligible for $500 to be used towards your Harris Mortgage for closing costs.  Refreshments will be served.  To RSVP\, call (815) 301-6255.
X-ALT-DESC;FMTTYPE=text/html:<div><span style="font-family: Arial\; color: black\; font-size: 11pt\; mso-fareast-font-family: &rsquo\;Times New Roman&rsquo\;\; mso-bidi-font-size: 9.0pt\; mso-ansi-language: EN-US\; mso-fareast-language: EN-US\; mso-bidi-language: AR-SA"><h1 style="margin: 0in 0in 0pt"><span style="mso-font-kerning: 0pt\; mso-hansi-font-family: Batang"><font size="3"><font face="Times New Roman">Harris Bank Offers First Time Homebuyer Seminar &ndash\; September 16<o:p></o:p></font></font></span></h1><p class="MsoNormal" style="line-height: 14.4pt\; margin: 0in 0in 0pt"><span style="font-family: Arial\; color: black\; font-size: 11pt\; mso-fareast-font-family: 'Times New Roman'\; mso-bidi-font-size: 9.0pt">Time is running out for your Federal Tax Credit!<span style="mso-spacerun: yes">&nbsp\; </span><b style="mso-bidi-font-weight: normal">Harris Bank</b> is hosting a &ldquo\;First Time Homebuyer Seminar&rdquo\; on Wednesday\, September 16 from </span><st1:time hour="18" minute="0"><span style="font-family: Arial\; color: black\; font-size: 11pt\; mso-fareast-font-family: 'Times New Roman'\; mso-bidi-font-size: 9.0pt">6</span></st1:time><span style="font-family: Arial\; color: black\; font-size: 11pt\; mso-fareast-font-family: 'Times New Roman'\; mso-bidi-font-size: 9.0pt"> to </span><st1:time hour="20" minute="0"><span style="font-family: Arial\; color: black\; font-size: 11pt\; mso-fareast-font-family: 'Times New Roman'\; mso-bidi-font-size: 9.0pt">8:00 p.m.</span></st1:time><span style="font-family: Arial\; color: black\; font-size: 11pt\; mso-fareast-font-family: 'Times New Roman'\; mso-bidi-font-size: 9.0pt">&nbsp\;at the Algonquin Township Office\, located at 3702 Route 14 in Crystal Lake. Attend and be eligible for $500 to be used towards your Harris Mortgage for closing costs.&nbsp\; Refreshments will be served.<span style="mso-spacerun: yes">&nbsp\; </span>To RSVP\, call (815) 301-6255.<o:p></o:p></span></p></span></div>
LOCATION:Algonquin Township Office3702 Route 14 in Crystal Lake
UID:e.138.579
SEQUENCE:3
DTSTAMP:20260424T163505Z
URL:https://business.carygrovechamber.com/events/details/first-time-homebuyer-seminar-09-16-2009-579
END:VEVENT

END:VCALENDAR
