BEGIN:VCALENDAR
VERSION:2.0
PRODID:-//ChamberMaster//Event Calendar 2.0//EN
METHOD:PUBLISH
X-PUBLISHED-TTL:P3D
REFRESH-INTERVAL:P3D
CALSCALE:GREGORIAN
BEGIN:VEVENT
DTSTART:20081202T150000Z
DTEND:20081202T170000Z
X-MICROSOFT-CDO-ALLDAYEVENT:FALSE
SUMMARY:Flu Shots at Good Shepherd Hospital
DESCRIPTION:Get Your Flu Shot!\nAdvocate Good Shepherd Hospital will be holding community flu shot clinics for seniors and high risk adults at several locations throughout the community and at the hospital.  To register for an appointment\, call the flu shot hotline at:  1-800-995-4267
X-ALT-DESC;FMTTYPE=text/html:Get Your Flu Shot!\nAdvocate Good Shepherd Hospital will be holding community flu shot clinics for seniors and high risk adults at several locations throughout the community and at the hospital.  To register for an appointment\, call the flu shot hotline at:  1-800-995-4267
LOCATION:Advocate Good Shepherd Hospital 450 W. Highway 22\, Barrington
UID:e.138.333
SEQUENCE:3
DTSTAMP:20260425T040138Z
URL:https://business.carygrovechamber.com/events/details/flu-shots-at-good-shepherd-hospital-12-02-2008-333
END:VEVENT

END:VCALENDAR
