BEGIN:VCALENDAR
VERSION:2.0
PRODID:-//ChamberMaster//Event Calendar 2.0//EN
METHOD:PUBLISH
X-PUBLISHED-TTL:P3D
REFRESH-INTERVAL:P3D
CALSCALE:GREGORIAN
BEGIN:VEVENT
DTSTART;VALUE=DATE:20100331
DTEND;VALUE=DATE:20100524
TRANSP:TRANSPARENT
X-MICROSOFT-CDO-ALLDAYEVENT:TRUE
SUMMARY:FOCAL NEEDS USED BOOKS FOR MAY SALE!
DESCRIPTION:F.O.C.A.L. (Friends of the Cary Area Library) is asking the public for donations of used books to sell at its semi-annual book sale\, to be held Saturday\, May 22 and Sunday\, May 23\, at the Cary Area Public Library. (No textbooks\, magazines\, or encyclopedias\, please.)  Receipts (for tax purposes) are available at the circulation desk--please inquire when you drop off your donation. Proceeds from the book sales are used to purchase items for the library.
X-ALT-DESC;FMTTYPE=text/html:F.O.C.A.L. (Friends of the Cary Area Library) is asking the public for donations of used books to sell at its semi-annual book sale\, to be held Saturday\, May 22 and Sunday\, May 23\, at the Cary Area Public Library. (No textbooks\, magazines\, or encyclopedias\, please.)  Receipts (for tax purposes) are available at the circulation desk--please inquire when you drop off your donation. Proceeds from the book sales are used to purchase items for the library.
LOCATION:Cary Area Public Library 1606 Three Oaks Road Cary\, IL 60013
UID:e.138.813
SEQUENCE:3
DTSTAMP:20260424T110558Z
URL:https://business.carygrovechamber.com/events/details/focal-needs-used-books-for-may-sale-03-31-2010-813
END:VEVENT

END:VCALENDAR
