BEGIN:VCALENDAR
VERSION:2.0
PRODID:-//ChamberMaster//Event Calendar 2.0//EN
METHOD:PUBLISH
X-PUBLISHED-TTL:P3D
REFRESH-INTERVAL:P3D
CALSCALE:GREGORIAN
BEGIN:VEVENT
DTSTART;VALUE=DATE:20090815
DTEND;VALUE=DATE:20090816
TRANSP:TRANSPARENT
X-MICROSOFT-CDO-ALLDAYEVENT:TRUE
SUMMARY:Food Demonstrations - Countryside Flower Shop\, Nursery & Garden Center
DESCRIPTION:Countryside Flower Shop\, Nursery & Garden Center is offering "Share\, Indulge and Preserve" demonstrations on Saturday\, August 15.  Learn how to get the most out of your fresh produce.  Beginning at 9 a.m.\, "What to do with what you Grew" will provide recipes for preserving fresh produce\; 12 noon\, "Vegetarian Alternatives\," will show you how to make a quick veggie pizza\; and at 1 p.m.\, "Desserts with Chef Thomas Kaltenecker." Please RSVP by August 12 at (815) 459-8130 or e-mail to marcy@countrysideflowershop.com.   Stop by this week through August 15 and donate items for the Food Drive to benefit Crystal Lake Food Pantry and receive a $5 coupon redeemable in September.  Fresh produce should be dropped off on Sunday\, Tuesday\, Thursday and Friday.  Non-perishables can be accepted anytime.  Countryside Flower Shop\, Nursery & Garden Center is located at 5301 E. Terra Cotta Avenue (Rt. 176\,   mile west of Route 31) in Crystal Lake and can be reached at (815) 459-8130.  Visit www.countrysideflowershop.com.
X-ALT-DESC;FMTTYPE=text/html:<div><p class="MsoNormal" style="line-height: 14.4pt\; margin: 0in 0in 0pt"><b style="mso-bidi-font-weight: normal"><span style="font-family: Arial\; color: black\; font-size: 11pt\; mso-bidi-font-size: 12.0pt\; mso-bidi-font-family: 'Times New Roman'">Countryside Flower Shop\, Nursery &amp\; Garden Center</span></b><span style="font-family: Arial\; color: black\; font-size: 11pt\; mso-bidi-font-size: 12.0pt\; mso-bidi-font-family: 'Times New Roman'"> is offering <i style="mso-bidi-font-style: normal">&ldquo\;Share\, Indulge and Preserve&rdquo\; </i>demonstrations on Saturday\, August 15.<span style="mso-spacerun: yes">&nbsp\; </span>Learn how to get the most out of your fresh produce. <span style="mso-spacerun: yes">&nbsp\;</span>Beginning at 9 a.m.\, <i style="mso-bidi-font-style: normal">&rdquo\;What to do with what you Grew&rdquo\;</i> will provide recipes for preserving fresh produce\; 12 noon\, <i style="mso-bidi-font-style: normal">&ldquo\;Vegetarian Alternatives\,&rdquo\;</i> will show you how to make a quick veggie pizza\; and at 1 p.m.\, &ldquo\;Desserts with Chef Thomas Kaltenecker.&ldquo\; Please RSVP by August 12 at (815) 459-8130 or e-mail to <a href="http://us.mc802.mail.yahoo.com/mc/compose?to=marcy@countrysideflowershop.com" target="_blank"><span style="color: black\; mso-fareast-font-family: Batang">marcy@countrysideflowershop.com</span></a>.<span style="mso-spacerun: yes">&nbsp\;&nbsp\;&nbsp\;</span></span><span style="font-family: Arial\; color: black\; font-size: 11pt\; mso-bidi-font-size: 12.0pt\; mso-bidi-font-family: 'Times New Roman'">Stop by this week through August 15 and donate items for the </span><st1:street><st1:address><span style="font-family: Arial\; color: black\; font-size: 11pt\; mso-bidi-font-size: 10.0pt\; mso-bidi-font-family: 'Times New Roman'">Food Drive</span></st1:address></st1:street><span style="font-family: Arial\; color: black\; font-size: 11pt\; mso-bidi-font-size: 10.0pt\; mso-bidi-font-family: 'Times New Roman'"> to benefit Crystal Lake Food Pantry and receive a $5 coupon redeemable in September.<span style="mso-spacerun: yes">&nbsp\; </span>Fresh produce should be dropped off on Sunday\, Tuesday\, Thursday and Friday.<span style="mso-spacerun: yes">&nbsp\; </span>Non-perishables can be accepted anytime.<span style="mso-spacerun: yes">&nbsp\; </span>Countryside Flower Shop\, </span><st1:place><st1:placename><span style="font-family: Arial\; color: black\; font-size: 11pt\; mso-bidi-font-size: 10.0pt\; mso-bidi-font-family: 'Times New Roman'">Nursery &amp\; Garden</span></st1:placename><span style="font-family: Arial\; color: black\; font-size: 11pt\; mso-bidi-font-size: 10.0pt\; mso-bidi-font-family: 'Times New Roman'"> </span><st1:placetype><span style="font-family: Arial\; color: black\; font-size: 11pt\; mso-bidi-font-size: 10.0pt\; mso-bidi-font-family: 'Times New Roman'">Center</span></st1:placetype></st1:place><span style="font-family: Arial\; color: black\; font-size: 11pt\; mso-bidi-font-size: 10.0pt\; mso-bidi-font-family: 'Times New Roman'"> is </span><span style="font-family: Arial\; color: black\; font-size: 11pt\; mso-bidi-font-size: 12.0pt\; mso-bidi-font-family: 'Times New Roman'">located at </span><st1:street><st1:address><span style="font-family: Arial\; color: black\; font-size: 11pt\; mso-bidi-font-size: 12.0pt\; mso-bidi-font-family: 'Times New Roman'">5301 E. Terra Cotta Avenue</span></st1:address></st1:street><span style="font-family: Arial\; color: black\; font-size: 11pt\; mso-bidi-font-size: 12.0pt\; mso-bidi-font-family: 'Times New Roman'"> (Rt. 176\, &frac12\; mile west of Route 31) in </span><st1:city><st1:place><span style="font-family: Arial\; color: black\; font-size: 11pt\; mso-bidi-font-size: 12.0pt\; mso-bidi-font-family: 'Times New Roman'">Crystal Lake</span></st1:place></st1:city><span style="font-family: Arial\; color: black\; font-size: 11pt\; mso-bidi-font-size: 12.0pt\; mso-bidi-font-family: 'Times New Roman'"> and can be reached at (815) 459-8130.<span style="mso-spacerun: yes">&nbsp\; </span>Visit <a href="http://www.countrysideflowershop.com/"><span style="mso-fareast-font-family: Batang">www.countrysideflowershop.com</span></a>.<o:p></o:p></span></p><p class="MsoNormal" style="margin: 0in 0in 0pt"><o:p><font size="3" face="Times New Roman">&nbsp\;</font></o:p></p><p class="MsoNormal" style="margin: 0in 0in 0pt"><b><span style="font-family: Verdana\; font-size: 7.5pt"><o:p>&nbsp\;</o:p></span></b></p></div>
LOCATION:Countryside Flower Shop\, Nursery & Garden Center 5301 E. Terra Cotta Avenue (Rt. 176\, mile west of Route 31) in Crystal Lake
UID:e.138.540
SEQUENCE:3
DTSTAMP:20260424T180844Z
URL:https://business.carygrovechamber.com/events/details/food-demonstrations-countryside-flower-shop-nursery-garden-center-08-15-2009-540
END:VEVENT

END:VCALENDAR
