BEGIN:VCALENDAR
VERSION:2.0
PRODID:-//ChamberMaster//Event Calendar 2.0//EN
METHOD:PUBLISH
X-PUBLISHED-TTL:P3D
REFRESH-INTERVAL:P3D
CALSCALE:GREGORIAN
BEGIN:VEVENT
DTSTART;VALUE=DATE:20100216
DTEND;VALUE=DATE:20100217
TRANSP:TRANSPARENT
X-MICROSOFT-CDO-ALLDAYEVENT:TRUE
SUMMARY:Fox River Grove - ''A State of Community Address''
DESCRIPTION:The Fox River Grove Business Roundtable with Village President Bob Nunamaker will be held on Tuesday\, February 16 from 12 noon to 1:30 p.m. at the Fox River Grove Village Hall\, located at 305 Illinois St. Cost is $10 and includes a box lunch. Get the latest information on the new Metra construction plans\, down redevelopment contract and new businesses in town. To register\, go to www.carygrovechamber.com for a registration form or call the Chamber at (847) 639-2800.
X-ALT-DESC;FMTTYPE=text/html:<div><div style="line-height: 14.4pt\; margin: 0in 0in 0pt"><span style="color: black\; font-size: 11pt">The Fox River Grove Business Roundtable with Village President Bob Nunamaker will be held on Tuesday\, February 16 from 12 noon to 1:30 p.m. at the Fox River Grove Village Hall\, located at </span><span style="color: black\; font-size: 11pt">305 Illinois St</span><span style="color: black\; font-size: 11pt">. Cost is $10 and includes a box lunch.&nbsp\;Get the latest information on the new Metra construction plans\, down redevelopment contract and new businesses in town. To register\,&nbsp\;go to <a href="http://www.carygrovechamber.com/"><font color="#800080">www.carygrovechamber.com</font></a> for a registration form or call the Chamber at (847) 639-2800.</span></div></div>
LOCATION:Fox River Grove Village Hall305 Illinois StreetFRG\, IL
UID:e.138.704
SEQUENCE:3
DTSTAMP:20260424T090522Z
URL:https://business.carygrovechamber.com/events/details/fox-river-grove-a-state-of-community-address-02-16-2010-704
END:VEVENT

END:VCALENDAR
