BEGIN:VCALENDAR
VERSION:2.0
PRODID:-//ChamberMaster//Event Calendar 2.0//EN
METHOD:PUBLISH
X-PUBLISHED-TTL:P3D
REFRESH-INTERVAL:P3D
CALSCALE:GREGORIAN
BEGIN:VEVENT
DTSTART:20080222T180000Z
DTEND:20080222T190000Z
X-MICROSOFT-CDO-ALLDAYEVENT:FALSE
SUMMARY:Fox River Grove Business Roundtable
DESCRIPTION:Fox River Grove Business Roundtable Luncheon Spotlight:   Downtown Parking and Economic Development Speakers:   Village President Kay Laube & Don Kendeigh\, Chairperson of\nPlanning and Economic Development Commission Network with key village leaders and staffDiscuss downtown development issuesAddress your concerns during the open forum
X-ALT-DESC;FMTTYPE=text/html:<div>Fox River Grove Business Roundtable Luncheon</div><div>&nbsp\;</div><div>Spotlight:&nbsp\;&nbsp\; Downtown Parking and Economic Development</div><div>&nbsp\;</div><div>Speakers:&nbsp\;&nbsp\; Village President Kay Laube &amp\; Don Kendeigh\, Chairperson of<br />Planning and Economic Development Commission</div><div>&nbsp\;</div><div>Network with key village leaders and staff</div><div>Discuss downtown development issues</div><div>Address your concerns during the open forum</div>
LOCATION:305 Illinois Street\,Fox River Grove Village Hall
UID:e.138.204
SEQUENCE:3
DTSTAMP:20260425T193650Z
URL:https://business.carygrovechamber.com/events/details/fox-river-grove-business-roundtable-02-22-2008-204
END:VEVENT

END:VCALENDAR
