BEGIN:VCALENDAR
VERSION:2.0
PRODID:-//ChamberMaster//Event Calendar 2.0//EN
METHOD:PUBLISH
X-PUBLISHED-TTL:P3D
REFRESH-INTERVAL:P3D
CALSCALE:GREGORIAN
BEGIN:VEVENT
DTSTART:20110210T180000Z
DTEND:20110210T193000Z
X-MICROSOFT-CDO-ALLDAYEVENT:FALSE
SUMMARY:Fox River Grove Business Rountable Luncheon
DESCRIPTION:Thursday\, February 10\n\n	Fox River Grove Business Roundtable Luncheon\n\n	FRG Village Hall\, 305 Illinois St.\n\n	12 noon   1:30 p.m.\n\n	Cost is $15 and includes box lunch\n\n	 \n\n	Get the latest information on the Metra construction plans\, new businesses in town and current issues. To reserve your spot by February 7\, call the Cary Grove Chamber at (847) 639-2800.
X-ALT-DESC;FMTTYPE=text/html:<p>\n	<strong style="mso-bidi-font-weight: normal"><span style="mso-bidi-font-style: italic"><font size="4">Thursday\, February 10</font></span></strong></p>\n<p class="MsoNormal" style="margin: 0in 0in 0pt\; mso-pagination: none">\n	<strong style="mso-bidi-font-weight: normal"><span style="mso-bidi-font-style: italic"><font size="4">Fox River Grove Business Roundtable Luncheon</font></span></strong></p>\n<p class="MsoNormal" style="margin: 0in 0in 0pt\; mso-pagination: none">\n	<span style="mso-bidi-font-style: italic"><font size="4">FRG Village Hall\, 305 Illinois St.</font></span></p>\n<p class="MsoNormal" style="margin: 0in 0in 0pt\; mso-pagination: none">\n	<span style="mso-bidi-font-style: italic"><font size="4">12 noon &ndash\; 1:30 p.m.</font></span></p>\n<p class="MsoNormal" style="margin: 0in 0in 0pt\; mso-pagination: none">\n	<span style="mso-bidi-font-style: italic"><font size="4">Cost is $15 and includes box lunch</font></span></p>\n<p class="MsoNormal" style="margin: 0in 0in 0pt\; mso-pagination: none">\n	&nbsp\;</p>\n<p>\n	<font size="4"><span style="font-family: 'calibri'\, 'sans-serif'\; font-size: 12pt\; mso-fareast-font-family: 'times new roman'\; mso-bidi-font-family: arial\; mso-ansi-language: en-us\; mso-fareast-language: en-us\; mso-bidi-language: ar-sa"><font color="#000000" face="Calibri">Get the latest information on the Metra construction plans\, new businesses in town and current issues. To reserve your spot by February 7\, call the Cary Grove Chamber at (847) 639-2800.</font></span></font></p>\n<p>\n	&nbsp\;</p>
LOCATION:Fox River Grove Village Hall305 Illinois St.
UID:e.138.394
SEQUENCE:3
DTSTAMP:20260423T161533Z
URL:https://business.carygrovechamber.com/events/details/fox-river-grove-business-rountable-luncheon-02-10-2011-394
END:VEVENT

END:VCALENDAR
