BEGIN:VCALENDAR
VERSION:2.0
PRODID:-//ChamberMaster//Event Calendar 2.0//EN
METHOD:PUBLISH
X-PUBLISHED-TTL:P3D
REFRESH-INTERVAL:P3D
CALSCALE:GREGORIAN
BEGIN:VEVENT
DTSTART;VALUE=DATE:20070624
DTEND;VALUE=DATE:20070625
TRANSP:TRANSPARENT
X-MICROSOFT-CDO-ALLDAYEVENT:TRUE
SUMMARY:Fox River Grove Cycling Challenge
DESCRIPTION:Fox River Grove Cycling Challenge
X-ALT-DESC;FMTTYPE=text/html:<font size="4">Fox River Grove Cycling Challenge</font>
LOCATION:For both amature and professional racing cyclists on a circular route through the hills of the Norge Ski Jump area.
UID:e.138.79
SEQUENCE:3
DTSTAMP:20260425T230257Z
URL:https://business.carygrovechamber.com/events/details/fox-river-grove-cycling-challenge-06-24-2007-79
END:VEVENT

END:VCALENDAR
