BEGIN:VCALENDAR
VERSION:2.0
PRODID:-//ChamberMaster//Event Calendar 2.0//EN
METHOD:PUBLISH
X-PUBLISHED-TTL:P3D
REFRESH-INTERVAL:P3D
CALSCALE:GREGORIAN
BEGIN:VEVENT
DTSTART:20091121T010000Z
DTEND:20091121T050000Z
X-MICROSOFT-CDO-ALLDAYEVENT:FALSE
SUMMARY:Fox River Grove Fire Department Turkey Raffle
DESCRIPTION:Join us for the Fox River Groves Annual Turkey Raffle!Door Prizes\, Food and Beverages!An evening of fun and fellowship!
X-ALT-DESC;FMTTYPE=text/html:<div>Join us for the Fox River Groves Annual Turkey Raffle!</div><div>Door Prizes\, Food and Beverages!</div><div>An evening of fun and fellowship!</div>
LOCATION:The FRG Fire Station411 Algonquin RoadFox River Grove\, IL
UID:e.138.597
SEQUENCE:3
DTSTAMP:20260424T140318Z
URL:https://business.carygrovechamber.com/events/details/fox-river-grove-fire-department-turkey-raffle-11-20-2009-597
END:VEVENT

END:VCALENDAR
