BEGIN:VCALENDAR
VERSION:2.0
PRODID:-//ChamberMaster//Event Calendar 2.0//EN
METHOD:PUBLISH
X-PUBLISHED-TTL:P3D
REFRESH-INTERVAL:P3D
CALSCALE:GREGORIAN
BEGIN:VEVENT
DTSTART:20100612T150000Z
DTEND:20100612T200000Z
X-MICROSOFT-CDO-ALLDAYEVENT:FALSE
SUMMARY:Fox River Grove Summer Celebration and Park it on the Fox Car Show
DESCRIPTION:The Fox River Grove Summer Celebration is scheduled for Saturday\, June 12 at Stone Hill Center and Foxmoor Crossings at Routes 14 and 22 from 10 a.m. to 3 p.m.  This event will showcase Fox River Grove businesses and expose local consumers to the products and services available in the FRG community.  The day will feature the Park it on the Fox Classic Car Show from 12 noon to 3 p.m.\, a best dressed pet parade contest\, sponsored by Gypsy Glen K-9 Castle and The Irish Sitter\, live music by Dr. Woods' Alex & the Allstars band\, children's activities\, sidewalk sale\, Weber cooking demonstrations at Leader ACE Hardware\, local performers\, raffles and more.  The event is sponsored by the Chamber\, Fox River Grove Limited Partnership\, Wagner Commercial\, Village of Fox River Grove and Algonquin Township.
X-ALT-DESC;FMTTYPE=text/html:<div><font size="4"><p class="MsoNormal" style="line-height: 14.4pt\; margin: 0in 0in 0pt"><font size="3"><span style="font-family: Calibri\; color: black\; mso-bidi-font-family: Arial">The Fox River Grove Summer Celebration is scheduled for Saturday\, June 12 at </span><st1:place><st1:placename><span style="font-family: Calibri\; color: black\; mso-bidi-font-family: Arial">Stone</span></st1:placename><span style="font-family: Calibri\; color: black\; mso-bidi-font-family: Arial"> </span><st1:placetype><span style="font-family: Calibri\; color: black\; mso-bidi-font-family: Arial">Hill</span></st1:placetype><span style="font-family: Calibri\; color: black\; mso-bidi-font-family: Arial"> </span><st1:placetype><span style="font-family: Calibri\; color: black\; mso-bidi-font-family: Arial">Center</span></st1:placetype></st1:place><span style="font-family: Calibri\; color: black\; mso-bidi-font-family: Arial"> and Foxmoor Crossings at Routes 14 and 22 from </span><st1:time minute="0" hour="10"><span style="font-family: Calibri\; color: black\; mso-bidi-font-family: Arial">10 a.m.</span></st1:time><span style="font-family: Calibri\; color: black\; mso-bidi-font-family: Arial"> to </span><st1:time minute="0" hour="15"><span style="font-family: Calibri\; color: black\; mso-bidi-font-family: Arial">3 p.m.</span></st1:time><span style="font-family: Calibri\; color: black\; mso-bidi-font-family: Arial"><span style="mso-spacerun: yes">&nbsp\; </span>This event will showcase Fox River Grove businesses and expose local consumers to the products and services available in the </span><st1:stockticker><span style="font-family: Calibri\; color: black\; mso-bidi-font-family: Arial">FRG</span></st1:stockticker><span style="font-family: Calibri\; color: black\; mso-bidi-font-family: Arial"> community.<span style="mso-spacerun: yes">&nbsp\; </span>The day will feature the Park it on the Fox Classic Car Show from </span><st1:time minute="0" hour="12"><span style="font-family: Calibri\; color: black\; mso-bidi-font-family: Arial">12 noon</span></st1:time><span style="font-family: Calibri\; color: black\; mso-bidi-font-family: Arial"> to </span><st1:time minute="0" hour="15"><span style="font-family: Calibri\; color: black\; mso-bidi-font-family: Arial">3 p.m.</span></st1:time><span style="font-family: Calibri\; color: black\; mso-bidi-font-family: Arial">\, a best dressed pet parade contest\, sponsored by <b style="mso-bidi-font-weight: normal">Gypsy Glen K-9 Castle and The Irish Sitter</b>\, live music by <b style="mso-bidi-font-weight: normal">Dr. Woods&rsquo\;</b> Alex &amp\; the Allstars band\, children&rsquo\;s activities\, sidewalk sale\, Weber cooking demonstrations at <b style="mso-bidi-font-weight: normal">Leader ACE Hardware</b>\, local performers\, raffles and more.<span style="mso-spacerun: yes">&nbsp\; </span>The event is sponsored by the Chamber\, <b style="mso-bidi-font-weight: normal">Fox River Grove Limited Partnership\, Wagner Commercial</b>\, </span><st1:place><st1:placetype><b style="mso-bidi-font-weight: normal"><span style="font-family: Calibri\; color: black\; mso-bidi-font-family: Arial">Village</span></b></st1:placetype><b style="mso-bidi-font-weight: normal"><span style="font-family: Calibri\; color: black\; mso-bidi-font-family: Arial"> of </span></b><st1:placename><b style="mso-bidi-font-weight: normal"><span style="font-family: Calibri\; color: black\; mso-bidi-font-family: Arial">Fox River Grove</span></b></st1:placename></st1:place><b style="mso-bidi-font-weight: normal"><span style="font-family: Calibri\; color: black\; mso-bidi-font-family: Arial"> and </span></b><st1:place><st1:placename><b style="mso-bidi-font-weight: normal"><span style="font-family: Calibri\; color: black\; mso-bidi-font-family: Arial">Algonquin</span></b></st1:placename><b style="mso-bidi-font-weight: normal"><span style="font-family: Calibri\; color: black\; mso-bidi-font-family: Arial"> </span></b><st1:placetype><b style="mso-bidi-font-weight: normal"><span style="font-family: Calibri\; color: black\; mso-bidi-font-family: Arial">Township</span></b></st1:placetype></st1:place><b style="mso-bidi-font-weight: normal"><span style="font-family: Calibri\; color: black\; mso-bidi-font-family: Arial">. </span></b></font><span style="font-family: Calibri\; color: black\; mso-bidi-font-family: Arial"><o:p></o:p></span></p></font></div><p><font size="4">&nbsp\;</font></p><p>&nbsp\;</p>
LOCATION:Foxmoor Crossing and Stone Hill Shopping Centers
UID:e.138.435
SEQUENCE:3
DTSTAMP:20260424T031131Z
URL:https://business.carygrovechamber.com/events/details/fox-river-grove-summer-celebration-and-park-it-on-the-fox-car-show-06-12-2010-435
END:VEVENT

END:VCALENDAR
