BEGIN:VCALENDAR
VERSION:2.0
PRODID:-//ChamberMaster//Event Calendar 2.0//EN
METHOD:PUBLISH
X-PUBLISHED-TTL:P3D
REFRESH-INTERVAL:P3D
CALSCALE:GREGORIAN
BEGIN:VEVENT
DTSTART:20090425T170000Z
DTEND:20090425T200000Z
X-MICROSOFT-CDO-ALLDAYEVENT:FALSE
SUMMARY:Foxford Hills Golf Club Community Day
DESCRIPTION:Come out to Foxford Hills Golf Club for an afternoon at the driving range. The course will offer free hot dogs and goodies for guests. Kids can hit balls or play in the bounce houses.
X-ALT-DESC;FMTTYPE=text/html:Come out to Foxford Hills Golf Club for an afternoon at the driving range. The course will offer free hot dogs and goodies for guests. Kids can hit balls or play in the bounce houses. 
LOCATION:Foxford Hills Golf Club\, 6800 S. Rawson Bridge Road\, Cary
UID:e.138.353
SEQUENCE:3
DTSTAMP:20260424T231208Z
URL:https://business.carygrovechamber.com/events/details/foxford-hills-golf-club-community-day-04-25-2009-353
END:VEVENT

END:VCALENDAR
