BEGIN:VCALENDAR
VERSION:2.0
PRODID:-//ChamberMaster//Event Calendar 2.0//EN
METHOD:PUBLISH
X-PUBLISHED-TTL:P3D
REFRESH-INTERVAL:P3D
CALSCALE:GREGORIAN
BEGIN:VEVENT
DTSTART:20080426T170000Z
DTEND:20080426T200000Z
X-MICROSOFT-CDO-ALLDAYEVENT:FALSE
SUMMARY:Foxford Hills Golf Club Community Day
DESCRIPTION:Bring your family for an afternoon of fun! Check out the golf course\, hit a few golf balls and receive a complimentary lesson from one of the golf professionals on staff. Kids can keep busy playing in inflatable bouncy houses and snacking on hot dogs\, cotton candy\, and soda pop. We look forward to seeing you there!
X-ALT-DESC;FMTTYPE=text/html:Bring your family for an afternoon of fun! Check out the golf course\, hit a few golf balls and receive a complimentary lesson from one of the golf professionals on staff. Kids can keep busy playing in inflatable bouncy houses and snacking on hot dogs\, cotton candy\, and soda pop. We look forward to seeing you there!
LOCATION:Foxford Hills Golf Club\, 6800 S. Rawson Bridge Road\, Cary
UID:e.138.192
SEQUENCE:3
DTSTAMP:20260425T165427Z
URL:https://business.carygrovechamber.com/events/details/foxford-hills-golf-club-community-day-04-26-2008-192
END:VEVENT

END:VCALENDAR
