BEGIN:VCALENDAR
VERSION:2.0
PRODID:-//ChamberMaster//Event Calendar 2.0//EN
METHOD:PUBLISH
X-PUBLISHED-TTL:P3D
REFRESH-INTERVAL:P3D
CALSCALE:GREGORIAN
BEGIN:VEVENT
DTSTART;VALUE=DATE:20080202
DTEND;VALUE=DATE:20080203
TRANSP:TRANSPARENT
X-MICROSOFT-CDO-ALLDAYEVENT:TRUE
SUMMARY:Fred Garbo Inflatable Theatre Company
DESCRIPTION:This whimsical show is full of air helium to be exact. Two talented artists inhabit an enchanting world of bright colors\, remarkable shapes and movement using a variety of helium filled costumes. The artists take the stage with inflatable shapes and characters which feature an inflatable set with blow-up furniture\, an Air-dale dog and the inflatable man and the inflatable woman.
X-ALT-DESC;FMTTYPE=text/html:<div>This whimsical show is full of air helium to be exact. Two talented artists inhabit an enchanting world of bright colors\, remarkable shapes and movement using a variety of helium filled costumes. The artists take the stage with inflatable shapes and characters which feature an inflatable set with blow-up furniture\, an Air-dale dog and the inflatable man and the inflatable woman.</div>
LOCATION:Raue Center For The Arts 26 N. Williams Street Crystal Lake\, IL 60014
UID:e.138.155
SEQUENCE:3
DTSTAMP:20260425T194540Z
URL:https://business.carygrovechamber.com/events/details/fred-garbo-inflatable-theatre-company-02-02-2008-155
END:VEVENT

END:VCALENDAR
