BEGIN:VCALENDAR
VERSION:2.0
PRODID:-//ChamberMaster//Event Calendar 2.0//EN
METHOD:PUBLISH
X-PUBLISHED-TTL:P3D
REFRESH-INTERVAL:P3D
CALSCALE:GREGORIAN
BEGIN:VEVENT
DTSTART;VALUE=DATE:20091218
DTEND;VALUE=DATE:20091219
TRANSP:TRANSPARENT
X-MICROSOFT-CDO-ALLDAYEVENT:TRUE
SUMMARY:Free Gift Wrapping at Cary Bank & Trust
DESCRIPTION:Cary Bank & Trust is offering FREE gift wrapping this holiday season when you shop in Cary and Fox River Grove.  Stop in Cary Bank & Trust\, located at 60 East Main St. (Route 14) in Cary with your receipts and gifts on Friday\, December 18 and they will wrap your gifts.  In addition\, support the Cary-Grove Food Pantry with a donation and Cary Bank will wrap your gifts for FREE.  Wrapping paper and bows provided!  For more information\, call (847) 462-8881
X-ALT-DESC;FMTTYPE=text/html:<div><span style="font-family: Arial\; color: black\; font-size: 11pt\; mso-fareast-font-family: 'Times New Roman'\; mso-bidi-font-size: 12.0pt\; mso-bidi-font-family: 'Times New Roman'\; mso-font-kerning: 1.0pt\; mso-ansi-language: EN-US\; mso-fareast-language: EN-US\; mso-bidi-language: AR-SA"><strong>Cary Bank &amp\; Trust</strong></span><span style="font-family: Arial\; color: black\; font-size: 11pt\; mso-fareast-font-family: 'Times New Roman'\; mso-bidi-font-size: 12.0pt\; mso-bidi-font-family: 'Times New Roman'\; mso-font-kerning: 1.0pt\; mso-ansi-language: EN-US\; mso-fareast-language: EN-US\; mso-bidi-language: AR-SA"> is offering </span><st1:stockticker><span style="font-family: Arial\; color: black\; font-size: 11pt\; mso-fareast-font-family: 'Times New Roman'\; mso-bidi-font-size: 12.0pt\; mso-bidi-font-family: 'Times New Roman'\; mso-font-kerning: 1.0pt\; mso-ansi-language: EN-US\; mso-fareast-language: EN-US\; mso-bidi-language: AR-SA">FREE</span></st1:stockticker><span style="font-family: Arial\; color: black\; font-size: 11pt\; mso-fareast-font-family: 'Times New Roman'\; mso-bidi-font-size: 12.0pt\; mso-bidi-font-family: 'Times New Roman'\; mso-font-kerning: 1.0pt\; mso-ansi-language: EN-US\; mso-fareast-language: EN-US\; mso-bidi-language: AR-SA"> gift wrapping this holiday season when you shop in </span><st1:city><st1:place><span style="font-family: Arial\; color: black\; font-size: 11pt\; mso-fareast-font-family: 'Times New Roman'\; mso-bidi-font-size: 12.0pt\; mso-bidi-font-family: 'Times New Roman'\; mso-font-kerning: 1.0pt\; mso-ansi-language: EN-US\; mso-fareast-language: EN-US\; mso-bidi-language: AR-SA">Cary</span></st1:place></st1:city><span style="font-family: Arial\; color: black\; font-size: 11pt\; mso-fareast-font-family: 'Times New Roman'\; mso-bidi-font-size: 12.0pt\; mso-bidi-font-family: 'Times New Roman'\; mso-font-kerning: 1.0pt\; mso-ansi-language: EN-US\; mso-fareast-language: EN-US\; mso-bidi-language: AR-SA"> and Fox River Grove.<span style="mso-spacerun: yes">&nbsp\; </span>Stop in Cary Bank&nbsp\;&amp\; Trust\, located at </span><st1:street><st1:address><span style="font-family: Arial\; color: black\; font-size: 11pt\; mso-fareast-font-family: 'Times New Roman'\; mso-bidi-font-size: 12.0pt\; mso-bidi-font-family: 'Times New Roman'\; mso-font-kerning: 1.0pt\; mso-ansi-language: EN-US\; mso-fareast-language: EN-US\; mso-bidi-language: AR-SA">60 East Main St.</span></st1:address></st1:street><span style="font-family: Arial\; color: black\; font-size: 11pt\; mso-fareast-font-family: 'Times New Roman'\; mso-bidi-font-size: 12.0pt\; mso-bidi-font-family: 'Times New Roman'\; mso-font-kerning: 1.0pt\; mso-ansi-language: EN-US\; mso-fareast-language: EN-US\; mso-bidi-language: AR-SA"> (Route 14) in </span><st1:city><st1:place><span style="font-family: Arial\; color: black\; font-size: 11pt\; mso-fareast-font-family: 'Times New Roman'\; mso-bidi-font-size: 12.0pt\; mso-bidi-font-family: 'Times New Roman'\; mso-font-kerning: 1.0pt\; mso-ansi-language: EN-US\; mso-fareast-language: EN-US\; mso-bidi-language: AR-SA">Cary</span></st1:place></st1:city><span style="font-family: Arial\; color: black\; font-size: 11pt\; mso-fareast-font-family: 'Times New Roman'\; mso-bidi-font-size: 12.0pt\; mso-bidi-font-family: 'Times New Roman'\; mso-font-kerning: 1.0pt\; mso-ansi-language: EN-US\; mso-fareast-language: EN-US\; mso-bidi-language: AR-SA"> with your receipts and gifts on Friday\, </span><st1:personname><span style="font-family: Arial\; color: black\; font-size: 11pt\; mso-fareast-font-family: 'Times New Roman'\; mso-bidi-font-size: 12.0pt\; mso-bidi-font-family: 'Times New Roman'\; mso-font-kerning: 1.0pt\; mso-ansi-language: EN-US\; mso-fareast-language: EN-US\; mso-bidi-language: AR-SA">Dec</span></st1:personname><span style="font-family: Arial\; color: black\; font-size: 11pt\; mso-fareast-font-family: 'Times New Roman'\; mso-bidi-font-size: 12.0pt\; mso-bidi-font-family: 'Times New Roman'\; mso-font-kerning: 1.0pt\; mso-ansi-language: EN-US\; mso-fareast-language: EN-US\; mso-bidi-language: AR-SA">ember 18 and they will wrap your gifts.<span style="mso-spacerun: yes">&nbsp\; </span>In addition\, support the Cary-Grove Food Pantry with a donation and Cary Bank will wrap your gifts for </span><st1:stockticker><span style="font-family: Arial\; color: black\; font-size: 11pt\; mso-fareast-font-family: 'Times New Roman'\; mso-bidi-font-size: 12.0pt\; mso-bidi-font-family: 'Times New Roman'\; mso-font-kerning: 1.0pt\; mso-ansi-language: EN-US\; mso-fareast-language: EN-US\; mso-bidi-language: AR-SA">FREE</span></st1:stockticker><span style="font-family: Arial\; color: black\; font-size: 11pt\; mso-fareast-font-family: 'Times New Roman'\; mso-bidi-font-size: 12.0pt\; mso-bidi-font-family: 'Times New Roman'\; mso-font-kerning: 1.0pt\; mso-ansi-language: EN-US\; mso-fareast-language: EN-US\; mso-bidi-language: AR-SA">.<span style="mso-spacerun: yes">&nbsp\; </span>Wrapping paper and bows provided!<span style="mso-spacerun: yes">&nbsp\; </span>For more information\, call (847) 462-8881</span></div>
LOCATION:Cary Bank & Trust60 East Main St. (Route 14) in Cary
UID:e.138.681
SEQUENCE:3
DTSTAMP:20260424T124947Z
URL:https://business.carygrovechamber.com/events/details/free-gift-wrapping-at-cary-bank-trust-12-18-2009-681
END:VEVENT

END:VCALENDAR
