BEGIN:VCALENDAR
VERSION:2.0
PRODID:-//ChamberMaster//Event Calendar 2.0//EN
METHOD:PUBLISH
X-PUBLISHED-TTL:P3D
REFRESH-INTERVAL:P3D
CALSCALE:GREGORIAN
BEGIN:VEVENT
DTSTART;VALUE=DATE:20090502
DTEND;VALUE=DATE:20090503
TRANSP:TRANSPARENT
X-MICROSOFT-CDO-ALLDAYEVENT:TRUE
SUMMARY:Free Health Fair - Centegra Health Systems
DESCRIPTION:Join Centegra Health Systems\, the Northwest Herald and McHenry County College for an interactive and educational day focusing on your health.   The Centegra McHenry County Health Fair is this Saturday\, May 2 from 9 a.m. to 2 p.m. at McHenry County College\, 8900 US Hwy 14 in Crystal Lake.  This event is free!  Call 877-CENTEGRA to register.
X-ALT-DESC;FMTTYPE=text/html:Join Centegra Health Systems\, the Northwest Herald and McHenry County College for an interactive and educational day focusing on your health.   The Centegra McHenry County Health Fair is this Saturday\, May 2 from 9 a.m. to 2 p.m. at McHenry County College\, 8900 US Hwy 14 in Crystal Lake.  This event is free!  Call 877-CENTEGRA to register.  
LOCATION:McHenry County College8900 US Hwy 14Crystal Lake\, IL
UID:e.138.457
SEQUENCE:3
DTSTAMP:20260424T214915Z
URL:https://business.carygrovechamber.com/events/details/free-health-fair-centegra-health-systems-05-02-2009-457
END:VEVENT

END:VCALENDAR
