BEGIN:VCALENDAR
VERSION:2.0
PRODID:-//ChamberMaster//Event Calendar 2.0//EN
METHOD:PUBLISH
X-PUBLISHED-TTL:P3D
REFRESH-INTERVAL:P3D
CALSCALE:GREGORIAN
BEGIN:VEVENT
DTSTART:20080812T163000Z
DTEND:20080812T180000Z
X-MICROSOFT-CDO-ALLDAYEVENT:FALSE
SUMMARY:Free Healthy Lunch by MountainQuest
DESCRIPTION:Free Healthy Lunch by MountainQuest   August 12MountainQuest\, LLC is offering a Free Healthy Lunch  on Tuesday\, August 12 at 11:30 a.m. in the main parking lot of the Silver Lakes Professional Building\, located at 2615 Three Oaks Road in Cary.  There will be free food\, music and entertainment.  Radio personality Lisa Dent from US 99.5 will be there.  For more information\, visit www.saturnhealthbreak.com.
X-ALT-DESC;FMTTYPE=text/html:<h1 style="margin: 0in 0in 0pt"><span style="font-family: &quot\;Arial&quot\;\,&quot\;sans-serif&quot\;\; mso-bidi-font-family: 'Times New Roman'"><font size="3">Free Healthy Lunch by MountainQuest &ndash\; August 12</font></span></h1><h1 style="margin: 0in 0in 0pt"><span style="font-family: &quot\;Arial&quot\;\,&quot\;sans-serif&quot\;\; mso-bidi-font-family: 'Times New Roman'"><font size="3"><o:p></o:p></font></span></h1><p class="MsoNormal" style="margin: 0in 0in 0pt\; line-height: 14.4pt"><strong style="mso-bidi-font-weight: normal"><span style="font-size: 11pt\; color: black\; font-family: &quot\;Arial&quot\;\,&quot\;sans-serif&quot\;\; mso-bidi-font-size: 12.0pt">MountainQuest\, LLC</span></strong><span style="font-size: 11pt\; color: black\; font-family: &quot\;Arial&quot\;\,&quot\;sans-serif&quot\;\; mso-bidi-font-size: 12.0pt"> is offering a Free Healthy Lunch&nbsp\; on Tuesday\, August 12 at <st1:time w:st="on" hour="11" minute="30">11:30 a.m.</st1:time> in the main parking lot of the <st1:place w:st="on"><st1:placename w:st="on">Silver</st1:placename> <st1:placetype w:st="on">Lakes</st1:placetype> <st1:placename w:st="on">Professional</st1:placename> <st1:placetype w:st="on">Building</st1:placetype></st1:place>\, located at <st1:street w:st="on"><st1:address w:st="on">2615 Three Oaks Road</st1:address></st1:street> in <st1:city w:st="on"><st1:place w:st="on">Cary</st1:place></st1:city>.<span style="mso-spacerun: yes">&nbsp\; </span>There will be free food\, music and entertainment.<span style="mso-spacerun: yes">&nbsp\; </span>Radio personality Lisa Dent from US 99.5 will be there.<span style="mso-spacerun: yes">&nbsp\; </span>For more information\, visit <a href="http://www.saturnhealthbreak.com/">www.saturnhealthbreak.com</a>. <span style="mso-spacerun: yes">&nbsp\;</span><o:p></o:p></span></p><p class="MsoNormal" style="margin: 0in 0in 0pt\; line-height: 14.4pt"><span style="font-size: 11pt\; color: black\; font-family: &quot\;Arial&quot\;\,&quot\;sans-serif&quot\;\; mso-bidi-font-size: 12.0pt"><span style="mso-spacerun: yes">&nbsp\;</span><o:p></o:p></span></p>
LOCATION:The main parking lot of the Silver Lakes Professional Building\, located at 2615 Three Oaks Road in Cary.
UID:e.138.298
SEQUENCE:3
DTSTAMP:20260425T105310Z
URL:https://business.carygrovechamber.com/events/details/free-healthy-lunch-by-mountainquest-08-12-2008-298
END:VEVENT

END:VCALENDAR
