BEGIN:VCALENDAR
VERSION:2.0
PRODID:-//ChamberMaster//Event Calendar 2.0//EN
METHOD:PUBLISH
X-PUBLISHED-TTL:P3D
REFRESH-INTERVAL:P3D
CALSCALE:GREGORIAN
BEGIN:VEVENT
DTSTART;VALUE=DATE:20090928
DTEND;VALUE=DATE:20090929
TRANSP:TRANSPARENT
X-MICROSOFT-CDO-ALLDAYEVENT:TRUE
SUMMARY:Free Heart Disease Lecture by Centegra
DESCRIPTION:Centegra Health System will host a free lecture on how to prevent heart disease from 6:30 to 7:30 p.m. on Monday\, September 28 at Centegra Health Bridge Fitness Center in Crystal Lake\, 200 Congress Parkway.  Come learn the heart risk factors and what steps can be taken to minimize chances of heart disease. Light refreshments will be served.  Space is limited\, so RSVP today at 877-CENTEGRA (236-8347).
X-ALT-DESC;FMTTYPE=text/html:Centegra Health System will host a free lecture on how to prevent heart disease from 6:30 to 7:30 p.m. on Monday\, September 28 at Centegra Health Bridge Fitness Center in Crystal Lake\, 200 Congress Parkway.  Come learn the heart risk factors and what steps can be taken to minimize chances of heart disease. Light refreshments will be served.  Space is limited\, so RSVP today at 877-CENTEGRA (236-8347).\n\n
LOCATION:Centegra Health Bridge Fitness Center200 Congress Parkway Crystal Lake\, IL
UID:e.138.583
SEQUENCE:3
DTSTAMP:20260424T163532Z
URL:https://business.carygrovechamber.com/events/details/free-heart-disease-lecture-by-centegra-09-28-2009-583
END:VEVENT

END:VCALENDAR
