BEGIN:VCALENDAR
VERSION:2.0
PRODID:-//ChamberMaster//Event Calendar 2.0//EN
METHOD:PUBLISH
X-PUBLISHED-TTL:P3D
REFRESH-INTERVAL:P3D
CALSCALE:GREGORIAN
BEGIN:VEVENT
DTSTART;VALUE=DATE:20090916
DTEND;VALUE=DATE:20090917
TRANSP:TRANSPARENT
X-MICROSOFT-CDO-ALLDAYEVENT:TRUE
SUMMARY:Free Job Search Seminar
DESCRIPTION:Baxter Credit Union (BCU)\, in its continuing efforts to help consumers navigate through these challenging economic times\, is offering a seminar on attaining employment.  The "Standing Out in the Crowd: From Job Search to Accepting an Offer" seminar will be held on Wednesday\, September 16 at 6 p.m. at BCU's Crystal Lake branch located at 415 South Main Street.  The unemployment rate of 10.5% exceeds the national average.  Each open position can garner hundreds of applicants.  This free seminar will cover strategies applicants can use throughout the recruitment process to make an impression\, common mistakes to avoid\, challenges applicants face and more.  Speaker Shauna Moreno\, senior recruiter for BCU\, is an industry expert in the employment field\, having recruited for the manufacturing\, technology\, and financial industries\, from entry-level positions to senior management. To RSVP\, call Sarah Johnson at (847) 522-8494 or email Sarah.Johnson@BCU.org.
X-ALT-DESC;FMTTYPE=text/html:<div><p class="MsoNormal" style="line-height: 14.4pt\; margin: 0in 0in 0pt"><b style="mso-bidi-font-weight: normal"><span style="font-family: Arial\; color: black\; font-size: 11pt\; mso-fareast-font-family: &rsquo\;Times New Roman&rsquo\;\; mso-bidi-font-family: &rsquo\;Times New Roman&rsquo\;">Baxter Credit Union (</span></b><st1:stockticker><b style="mso-bidi-font-weight: normal"><span style="font-family: Arial\; color: black\; font-size: 11pt\; mso-fareast-font-family: &rsquo\;Times New Roman&rsquo\;\; mso-bidi-font-family: &rsquo\;Times New Roman&rsquo\;">BCU</span></b></st1:stockticker><b style="mso-bidi-font-weight: normal"><span style="font-family: Arial\; color: black\; font-size: 11pt\; mso-fareast-font-family: &rsquo\;Times New Roman&rsquo\;\; mso-bidi-font-family: &rsquo\;Times New Roman&rsquo\;">)\,</span></b><span style="font-family: Arial\; color: black\; font-size: 11pt\; mso-fareast-font-family: &rsquo\;Times New Roman&rsquo\;\; mso-bidi-font-family: &rsquo\;Times New Roman&rsquo\;"> in its continuing efforts to help consumers navigate through these challenging economic times\, is offering a seminar on attaining employment.<span style="mso-spacerun: yes">&nbsp\; </span>The <b>&ldquo\;Standing Out in the Crowd: <i>From Job Search to Accepting an Offer</i>&rdquo\;</b> seminar will be held on Wednesday\, September 16<sup> </sup>at 6 p.m. at </span><st1:stockticker><span style="font-family: Arial\; color: black\; font-size: 11pt\; mso-fareast-font-family: &rsquo\;Times New Roman&rsquo\;\; mso-bidi-font-family: &rsquo\;Times New Roman&rsquo\;">BCU</span></st1:stockticker><span style="font-family: Arial\; color: black\; font-size: 11pt\; mso-fareast-font-family: &rsquo\;Times New Roman&rsquo\;\; mso-bidi-font-family: &rsquo\;Times New Roman&rsquo\;">&rsquo\;s Crystal Lake branch located at 415 South Main Street.<span style="mso-spacerun: yes">&nbsp\; </span>The unemployment rate of 10.5% exceeds the national average.<span style="mso-spacerun: yes">&nbsp\; </span>Each open position can garner hundreds of applicants.<span style="mso-spacerun: yes">&nbsp\; </span>This free seminar will cover strategies applicants can use throughout the recruitment process to make an impression\, common mistakes to avoid\, challenges applicants face and more.<span style="mso-spacerun: yes">&nbsp\; </span>Speaker Shauna Moreno\, senior recruiter for </span><st1:stockticker><span style="font-family: Arial\; color: black\; font-size: 11pt\; mso-fareast-font-family: &rsquo\;Times New Roman&rsquo\;\; mso-bidi-font-family: &rsquo\;Times New Roman&rsquo\;">BCU</span></st1:stockticker><span style="font-family: Arial\; color: black\; font-size: 11pt\; mso-fareast-font-family: &rsquo\;Times New Roman&rsquo\;\; mso-bidi-font-family: &rsquo\;Times New Roman&rsquo\;">\, is an industry expert in the employment field\, having recruited for the manufacturing\, technology\, and financial industries\, from entry-level positions to senior management. To RSVP\, call Sarah Johnson at (847) 522-8494 or email Sarah.Johnson@</span><st1:stockticker><span style="font-family: Arial\; color: black\; font-size: 11pt\; mso-fareast-font-family: &rsquo\;Times New Roman&rsquo\;\; mso-bidi-font-family: &rsquo\;Times New Roman&rsquo\;">BCU</span></st1:stockticker><span style="font-family: Arial\; color: black\; font-size: 11pt\; mso-fareast-font-family: &rsquo\;Times New Roman&rsquo\;\; mso-bidi-font-family: &rsquo\;Times New Roman&rsquo\;">.org. </span><span style="font-family: Arial\; color: black\; font-size: 11pt\; mso-fareast-font-family: &rsquo\;Times New Roman&rsquo\;"><o:p></o:p></span></p></div>
LOCATION:BCU415 South Main StreetCrystal Lake\, IL
UID:e.138.580
SEQUENCE:3
DTSTAMP:20260424T163637Z
URL:https://business.carygrovechamber.com/events/details/free-job-search-seminar-09-16-2009-580
END:VEVENT

END:VCALENDAR
