BEGIN:VCALENDAR
VERSION:2.0
PRODID:-//ChamberMaster//Event Calendar 2.0//EN
METHOD:PUBLISH
X-PUBLISHED-TTL:P3D
REFRESH-INTERVAL:P3D
CALSCALE:GREGORIAN
BEGIN:VEVENT
DTSTART;VALUE=DATE:20091215
DTEND;VALUE=DATE:20091216
TRANSP:TRANSPARENT
X-MICROSOFT-CDO-ALLDAYEVENT:TRUE
SUMMARY:Free Job Search Seminar
DESCRIPTION:The McHenry County Workforce Network offers FREE seminars and services for job seekers. Resume / Portfolio / Interview Seminar is on Tuesday\, December 15 from 9:30 a.m. to 12:15 p.m at 500 Russel Court in Woodstock. Learn what information belongs in your resume and what you should leave out. Topics include a discussion of the chronological and functional resume\, cover letter writing\, and how to email a resume.  Preparing a resume for email will also be discussed. Learn how to develop a portfolio\, what items to include and how to use one in an interview. Bring resume to tweak.  Learn the fundamentals of interview preparation and how to make the best impression. Subject will look at researching companies and salaries\, dressing for interview\, body language\, typical interview questions\, salary negotiation and following up after the interview.Seating is limited. To reserve your spot\, call (815) 338-7100\, ext 203. Visit www.mchenrycountyworkforce.com for additional information and future seminar dates.  Check out www.illinoisworknet.com for additional resources
X-ALT-DESC;FMTTYPE=text/html:<div><p class="MsoNormal" style="line-height: 14.4pt\; margin: 0in 0in 0pt"><span style="font-family: Arial\; color: black\; font-size: 11pt">The <b style="mso-bidi-font-weight: normal">McHenry County Workforce Network</b> offers </span><st1:stockticker><span style="font-family: Arial\; color: black\; font-size: 11pt">FREE</span></st1:stockticker><span style="font-family: Arial\; color: black\; font-size: 11pt"> seminars and services for job seekers. Resume / Portfolio / Interview Seminar&nbsp\;is on Tuesday\, </span><st1:personname><span style="font-family: Arial\; color: black\; font-size: 11pt">Dec</span></st1:personname><span style="font-family: Arial\; color: black\; font-size: 11pt">ember 15 from </span><st1:time hour="9" minute="30"><span style="font-family: Arial\; color: black\; font-size: 11pt">9:30 a.m.</span></st1:time><span style="font-family: Arial\; color: black\; font-size: 11pt"> to </span><st1:time hour="12" minute="15"><span style="font-family: Arial\; color: black\; font-size: 11pt">12:15 p.m at</span></st1:time><span style="font-family: Arial\; color: black\; font-size: 11pt"> </span><st1:street><st1:address><span style="font-family: Arial\; color: black\; font-size: 11pt">500 Russel Court</span></st1:address></st1:street><span style="font-family: Arial\; color: black\; font-size: 11pt"> in </span><st1:city><st1:place><span style="font-family: Arial\; color: black\; font-size: 11pt">Woodstock</span></st1:place></st1:city><span style="font-family: Arial\; color: black\; font-size: 11pt">. Learn what information belongs in your resume and what you should leave out. Topics include a discussion of the chronological and functional resume\, cover letter writing\, and how to email a resume.&nbsp\; Preparing a resume for email will also be discussed. Learn how to develop a portfolio\, what items to include and how to use one in an interview. Bring resume to tweak.&nbsp\; Learn the fundamentals of interview preparation and how to make the best impression. Subject will look at researching companies and salaries\, dressing for interview\, body language\, typical interview questions\, salary negotiation&nbsp\;and following up after the interview.</span></p><p class="MsoNormal" style="line-height: 14.4pt\; margin: 0in 0in 0pt"><span style="font-family: Arial\; color: black\; font-size: 11pt">Seating is limited. To reserve your spot\, call (815) 338-7100\, ext 203. Visit <a href="http://www.mchenrycountyworkforcecom/">www.mchenrycountyworkforce.com</a> for additional information and future seminar dates.<span style="mso-spacerun: yes">&nbsp\; </span>Check out <a href="http://www.illinoisworknet.com/">www.illinoisworknet.com</a> for additional resources<o:p></o:p></span></p></div>
LOCATION:McHenry County Workforce Network500 Russel Court in Woodstock
UID:e.138.686
SEQUENCE:3
DTSTAMP:20260424T124957Z
URL:https://business.carygrovechamber.com/events/details/free-job-search-seminar-12-15-2009-686
END:VEVENT

END:VCALENDAR
