BEGIN:VCALENDAR
VERSION:2.0
PRODID:-//ChamberMaster//Event Calendar 2.0//EN
METHOD:PUBLISH
X-PUBLISHED-TTL:P3D
REFRESH-INTERVAL:P3D
CALSCALE:GREGORIAN
BEGIN:VEVENT
DTSTART;VALUE=DATE:20091223
DTEND;VALUE=DATE:20091224
TRANSP:TRANSPARENT
X-MICROSOFT-CDO-ALLDAYEVENT:TRUE
SUMMARY:Free Job Search Seminar
DESCRIPTION:The McHenry County Workforce Network offers FREE seminars and services for job seekers. "Network to Success Job Search Club" meets on Wednesday\, December 23 at 500 Russel Court in Woodstock for Portfolios   Defining/Developing/Using/Maintaining from 1 to 4 p.m. Learn how to develop a portfolio\, what to include and how to use in an interview.  Get the confidence you need to really stand out in those interviews! Seating is limited. To reserve your spot\, call (815) 338-7100\, ext 203. Visit www.mchenrycountyworkforce.com for additional information and future seminar dates.  Check out www.illinoisworknet.com for additional resources
X-ALT-DESC;FMTTYPE=text/html:<div><p class="MsoNormal" style="line-height: 14.4pt\; margin: 0in 0in 0pt"><span style="font-family: Arial\; color: black\; font-size: 11pt">The <b style="mso-bidi-font-weight: normal">McHenry County Workforce Network</b> offers </span><st1:stockticker><span style="font-family: Arial\; color: black\; font-size: 11pt">FREE</span></st1:stockticker><span style="font-family: Arial\; color: black\; font-size: 11pt"> seminars and services for job seekers.&nbsp\;</span><span style="font-family: Arial\; color: black\; font-size: 11pt">&ldquo\;Network to Success Job Search Club&rdquo\; meets on Wednesday\, </span><st1:personname><span style="font-family: Arial\; color: black\; font-size: 11pt">Dec</span></st1:personname><span style="font-family: Arial\; color: black\; font-size: 11pt">ember 23&nbsp\;at <st1:street><st1:address><span style="font-family: Arial\; color: black\; font-size: 11pt">500 Russel Court</span></st1:address></st1:street><span style="font-family: Arial\; color: black\; font-size: 11pt"> in </span><st1:city><st1:place><span style="font-family: Arial\; color: black\; font-size: 11pt">Woodstock</span></st1:place></st1:city>&nbsp\;for <i style="mso-bidi-font-style: normal">Portfolios &ndash\; Defining/Developing/Using/Maintaining</i> from 1 to 4 p.m. Learn how to develop a portfolio\, what to include and how to use in an interview.&nbsp\;<span style="mso-spacerun: yes">&nbsp\;Get the confidence you need to really stand out in those interviews!</span></span></p><p class="MsoNormal" style="line-height: 14.4pt\; margin: 0in 0in 0pt">&nbsp\;</p><p class="MsoNormal" style="line-height: 14.4pt\; margin: 0in 0in 0pt"><span style="font-family: Arial\; color: black\; font-size: 11pt">Seating is limited. To reserve your spot\, call (815) 338-7100\, ext 203. Visit <a href="http://www.mchenrycountyworkforcecom/">www.mchenrycountyworkforce.com</a> for additional information and future seminar dates.<span style="mso-spacerun: yes">&nbsp\; </span>Check out <a href="http://www.illinoisworknet.com/">www.illinoisworknet.com</a> for additional resources<o:p></o:p></span></p></div>
LOCATION:McHenry County Workforce Network500 Russel Court in Woodstock
UID:e.138.687
SEQUENCE:3
DTSTAMP:20260424T125728Z
URL:https://business.carygrovechamber.com/events/details/free-job-search-seminar-12-23-2009-687
END:VEVENT

END:VCALENDAR
