BEGIN:VCALENDAR
VERSION:2.0
PRODID:-//ChamberMaster//Event Calendar 2.0//EN
METHOD:PUBLISH
X-PUBLISHED-TTL:P3D
REFRESH-INTERVAL:P3D
CALSCALE:GREGORIAN
BEGIN:VEVENT
DTSTART;VALUE=DATE:20090725
DTEND;VALUE=DATE:20090726
TRANSP:TRANSPARENT
X-MICROSOFT-CDO-ALLDAYEVENT:TRUE
SUMMARY:Free Lecture - Medical Thermal Imaging
DESCRIPTION:Join Janine Jozwiak\, M.S.\, of Nature's Balance Acupuncture for a free lecture on Medical Thermal Imaging on Saturday\, July 25 from 2:00 to 3:00 p.m. at Cary Jazzercise\, 770 Industrial Drive\, #B in Cary. Themography is a medical device using infrared detectors to detect early signs of disease.  This procedure is non-invasive\, does not use radiation and causes no harm to the patient.    Seating is limited\, call (815) 788-8383 to RSVP by July 23.
X-ALT-DESC;FMTTYPE=text/html:Join Janine Jozwiak\, M.S.\, of Nature's Balance Acupuncture for a free lecture on Medical Thermal Imaging on Saturday\, July 25 from 2:00 to 3:00 p.m. at Cary Jazzercise\, 770 Industrial Drive\, #B in Cary. Themography is a medical device using infrared detectors to detect early signs of disease.  This procedure is non-invasive\, does not use radiation and causes no harm to the patient.    Seating is limited\, call (815) 788-8383 to RSVP by July 23.
LOCATION:Cary Jazzercise770 Industrial Drive\, #B in Cary
UID:e.138.520
SEQUENCE:3
DTSTAMP:20260424T191952Z
URL:https://business.carygrovechamber.com/events/details/free-lecture-medical-thermal-imaging-07-25-2009-520
END:VEVENT

END:VCALENDAR
