BEGIN:VCALENDAR
VERSION:2.0
PRODID:-//ChamberMaster//Event Calendar 2.0//EN
METHOD:PUBLISH
X-PUBLISHED-TTL:P3D
REFRESH-INTERVAL:P3D
CALSCALE:GREGORIAN
BEGIN:VEVENT
DTSTART;VALUE=DATE:20090917
DTEND;VALUE=DATE:20090919
TRANSP:TRANSPARENT
X-MICROSOFT-CDO-ALLDAYEVENT:TRUE
SUMMARY:Free Therapy Treatment at Nature's Balance Acupuncture
DESCRIPTION:Janine Jozwiak\, M.S.\, L.Ac of Nature's Balance Acupuncture presents\, "Breakthrough in Meridian Point Therapy\," a revolutionary\, high powered electro-magnetic therapy used for a wide range of conditions. They are offering free treatments on Thursday\, September 17 from 7 to 8:30 p. m. and again on Friday\, September 18 from 12 noon to 2 p.m. Take 15 minutes out of your day and get yourself treated with this non-invasive therapeutic treatment. Appointments are required\, so please call to schedule today at (815) 788-8383. of Nature's Balance Acupuncture is located at 260 E. Congress Parkway\, Suite D in Crystal Lake.
X-ALT-DESC;FMTTYPE=text/html:<div>Janine Jozwiak\, M.S.\, L.Ac of Nature&rsquo\;s Balance Acupuncture presents\, &quot\;Breakthrough in Meridian Point Therapy\,&quot\; a revolutionary\, high powered electro-magnetic therapy used for a wide range of conditions. They are offering free treatments on Thursday\, September 17 from 7 to 8:30 p. m. and again on Friday\, September 18 from 12 noon to 2 p.m. Take 15 minutes out of your day and get yourself treated with this non-invasive therapeutic treatment. Appointments are required\, so please call to schedule today at (815) 788-8383. of Nature&rsquo\;s Balance Acupuncture is located at 260 E. Congress Parkway\, Suite D in Crystal Lake.</div>
LOCATION:Nature's Balance Acupuncture is located at 260 E. Congress Parkway\, Suite D in Crystal Lake
UID:e.138.575
SEQUENCE:3
DTSTAMP:20260424T163824Z
URL:https://business.carygrovechamber.com/events/details/free-therapy-treatment-at-nature-s-balance-acupuncture-09-17-2009-575
END:VEVENT

END:VCALENDAR
