BEGIN:VCALENDAR
VERSION:2.0
PRODID:-//ChamberMaster//Event Calendar 2.0//EN
METHOD:PUBLISH
X-PUBLISHED-TTL:P3D
REFRESH-INTERVAL:P3D
CALSCALE:GREGORIAN
BEGIN:VEVENT
DTSTART:20080213T230000Z
DTEND:20080214T010000Z
X-MICROSOFT-CDO-ALLDAYEVENT:FALSE
SUMMARY:Fresh New Marketing Ideas! You can use right now
DESCRIPTION:Featured speaker Julie Mueller will discuss ways to implement ideas of how to let customers know you're out there.
X-ALT-DESC;FMTTYPE=text/html:Featured speaker Julie Mueller will discuss ways to implement ideas of how to let customers know you're out there.
LOCATION:Richard Walkers Pancake House 5680 Northwest Hwy\, Crystal Lake
UID:e.138.201
SEQUENCE:3
DTSTAMP:20260425T193829Z
URL:https://business.carygrovechamber.com/events/details/fresh-new-marketing-ideas-you-can-use-right-now-02-13-2008-201
END:VEVENT

END:VCALENDAR
