BEGIN:VCALENDAR
VERSION:2.0
PRODID:-//ChamberMaster//Event Calendar 2.0//EN
METHOD:PUBLISH
X-PUBLISHED-TTL:P3D
REFRESH-INTERVAL:P3D
CALSCALE:GREGORIAN
BEGIN:VEVENT
DTSTART;VALUE=DATE:20090912
DTEND;VALUE=DATE:20090913
TRANSP:TRANSPARENT
X-MICROSOFT-CDO-ALLDAYEVENT:TRUE
SUMMARY:FRG Lions Fest
DESCRIPTION:FRG Lions Fest (formerly called Fox Fest) in Fox River Grove will be held on Saturday\, September 12 at Lions Park in Fox River Grove on the river.  The event is from 12 noon to 10:00 p.m.  The Chamber will have a booth selling hot dogs.
X-ALT-DESC;FMTTYPE=text/html:FRG Lions Fest (formerly called Fox Fest) in Fox River Grove will be held on Saturday\, September 12 at Lions Park in Fox River Grove on the river.  The event is from 12 noon to 10:00 p.m.  The Chamber will have a booth selling hot dogs. 
LOCATION:Lions Park - on the riverFox River Grove
UID:e.138.547
SEQUENCE:3
DTSTAMP:20260424T151222Z
URL:https://business.carygrovechamber.com/events/details/frg-lions-fest-09-12-2009-547
END:VEVENT

END:VCALENDAR
