BEGIN:VCALENDAR
VERSION:2.0
PRODID:-//ChamberMaster//Event Calendar 2.0//EN
METHOD:PUBLISH
X-PUBLISHED-TTL:P3D
REFRESH-INTERVAL:P3D
CALSCALE:GREGORIAN
BEGIN:VEVENT
DTSTART;VALUE=DATE:20090516
DTEND;VALUE=DATE:20090517
TRANSP:TRANSPARENT
X-MICROSOFT-CDO-ALLDAYEVENT:TRUE
SUMMARY:FRG Spring Clean Up
DESCRIPTION:Fox River Grove Spring Clean Up   May 16  Mark your calendar!  Fox River Grove's Spring Clean-Up is scheduled for May 16.  Items for pickup include: furniture weighing less than 50 lbs.\, plumbing fixtures\, small auto parts drained of oil and gasoline\, bundled construction debris of not more than one cubic yard and weighing less than 50 lbs.\, lawn and garden items\, but not landscape waste. Items NOT allowed include: automobile batteries and tires\, auto parts weighing more than 50 lbs.\, any liquid or hazardous waste materials\, such as gasoline\, paints or motor oil\, bricks\, stones\, concrete or roofing debris\, unbundled construction debris over 50 lbs.\, appliances\, air conditioners\, water heaters\, computers or computer parts\, plasma TV's.  For more information\, call Waste Management at (800) 796-9696.
X-ALT-DESC;FMTTYPE=text/html:<h1 style="margin: 0in 0in 0pt"><span style="font-family: &quot\;Arial&quot\;\,&quot\;sans-serif&quot\;\; mso-bidi-font-family: 'Times New Roman'"><font size="3">Fox River Grove Spring Clean Up &ndash\; May 16<o:p></o:p></font></span></h1><p class="MsoNormal" style="margin: 0in 0in 0pt\; line-height: 14.4pt">&nbsp\;</p><p class="MsoNormal" style="margin: 0in 0in 0pt\; line-height: 14.4pt">&nbsp\;</p><p class="MsoNormal" style="margin: 0in 0in 0pt\; line-height: 14.4pt"><span style="font-size: 11pt\; color: black\; font-family: &quot\;Arial&quot\;\,&quot\;sans-serif&quot\;\; mso-bidi-font-family: 'Times New Roman'\; mso-bidi-font-size: 12.0pt">Mark your calendar!<span style="mso-spacerun: yes">&nbsp\; </span>Fox River Grove&rsquo\;s Spring Clean-Up is scheduled for May 16.<span style="mso-spacerun: yes">&nbsp\; </span>Items for pickup include: furniture weighing less than 50 lbs.\, plumbing fixtures\, small auto parts drained of oil and gasoline\, bundled construction debris of not more than one cubic yard and weighing less than 50 lbs.\, lawn and garden items\, but not landscape waste. Items NOT allowed include: automobile batteries and tires\, auto parts weighing more than 50 lbs.\, any liquid or hazardous waste materials\, such as gasoline\, paints or motor oil\, bricks\, stones\, concrete or roofing debris\, unbundled construction debris over 50 lbs.\, appliances\, air conditioners\, water heaters\, computers or computer parts\, plasma TV&rsquo\;s.<span style="mso-spacerun: yes">&nbsp\; </span>For more information\, call Waste Management at (800) 796-9696.<o:p></o:p></span></p>
LOCATION:
UID:e.138.452
SEQUENCE:3
DTSTAMP:20260424T214648Z
URL:https://business.carygrovechamber.com/events/details/frg-spring-clean-up-05-16-2009-452
END:VEVENT

END:VCALENDAR
